BEGIN:VCALENDAR
VERSION:2.0
PRODID:-//Pyhäranta - ECPv6.6.2//NONSGML v1.0//EN
CALSCALE:GREGORIAN
METHOD:PUBLISH
X-ORIGINAL-URL:https://www.pyharanta.fi
X-WR-CALDESC:Events for Pyhäranta
REFRESH-INTERVAL;VALUE=DURATION:PT1H
X-Robots-Tag:noindex
X-PUBLISHED-TTL:PT1H
BEGIN:VTIMEZONE
TZID:Europe/Helsinki
BEGIN:DAYLIGHT
TZOFFSETFROM:+0200
TZOFFSETTO:+0300
TZNAME:EEST
DTSTART:20230326T010000
END:DAYLIGHT
BEGIN:STANDARD
TZOFFSETFROM:+0300
TZOFFSETTO:+0200
TZNAME:EET
DTSTART:20231029T010000
END:STANDARD
END:VTIMEZONE
BEGIN:VEVENT
DTSTART;TZID=Europe/Helsinki:20230511T120000
DTEND;TZID=Europe/Helsinki:20230511T143000
DTSTAMP:20260424T043143
CREATED:20230404T085442Z
LAST-MODIFIED:20230404T085442Z
UID:10000094-1683806400-1683815400@www.pyharanta.fi
SUMMARY:Ikäihmisten päivätoiminta (65v+) Kaukan kyläkodilla
DESCRIPTION:Toimintapäivä Kaukan kyläkodilla (os. Kaukanraitti 24) torstaina 11.5. klo 12.00-14.30.\nvirittäydytään kesään musiikkiteemalla. Musiikin iloa kanssamme jakavat koululaiset ja muiikin opettaja Päivi Karkulahti\, Musiikkitupa.\nVirkistävää yhdessäoloa nauttien maukkaan ruuasta. Osallistumismaksu 5 €/hlö laskutetaan jälkikäteen.\nMaksu sisältää ohjelman ja ruokailun. Kuljetusta ei järjestetä erikseen\, kysy tarvittaessa\nkyytiä kaverilta tai vapaaehtoistoimijoilta.
URL:https://www.pyharanta.fi/event/ikaihmisten-paivatoiminta-65v-kaukan-kylakodilla/
END:VEVENT
END:VCALENDAR