BEGIN:VCALENDAR
VERSION:2.0
PRODID:-//Pyhäranta - ECPv6.6.2//NONSGML v1.0//EN
CALSCALE:GREGORIAN
METHOD:PUBLISH
X-ORIGINAL-URL:https://www.pyharanta.fi
X-WR-CALDESC:Events for Pyhäranta
REFRESH-INTERVAL;VALUE=DURATION:PT1H
X-Robots-Tag:noindex
X-PUBLISHED-TTL:PT1H
BEGIN:VTIMEZONE
TZID:Europe/Helsinki
BEGIN:DAYLIGHT
TZOFFSETFROM:+0200
TZOFFSETTO:+0300
TZNAME:EEST
DTSTART:20230326T010000
END:DAYLIGHT
BEGIN:STANDARD
TZOFFSETFROM:+0300
TZOFFSETTO:+0200
TZNAME:EET
DTSTART:20231029T010000
END:STANDARD
END:VTIMEZONE
BEGIN:VEVENT
DTSTART;TZID=Europe/Helsinki:20231023T180000
DTEND;TZID=Europe/Helsinki:20231023T193000
DTSTAMP:20260423T135455
CREATED:20231011T111820Z
LAST-MODIFIED:20231011T111820Z
UID:10000103-1698084000-1698089400@www.pyharanta.fi
SUMMARY:MLL Pyhäranta: Keilausta
DESCRIPTION:Syyslomaviikolla Pyhärannan kunnan koululaisille ilmainen keilausilta Rauman keilahallilla. \nSitovat ilmoittautumiset 19.10.2023 mennessä pyharannanmll@gmail.com. \n 
URL:https://www.pyharanta.fi/event/mll-pyharanta-keilausta/
END:VEVENT
BEGIN:VEVENT
DTSTART;TZID=Europe/Helsinki:20231023T180000
DTEND;TZID=Europe/Helsinki:20231023T200000
DTSTAMP:20260423T135455
CREATED:20231017T085028Z
LAST-MODIFIED:20231017T085049Z
UID:10000108-1698084000-1698091200@www.pyharanta.fi
SUMMARY:Kunnanhallituksen kokous
DESCRIPTION:
URL:https://www.pyharanta.fi/event/kunnanhallituksen-kokous-23-10-2023/
END:VEVENT
END:VCALENDAR