BEGIN:VCALENDAR
VERSION:2.0
PRODID:-//Pyhäranta - ECPv6.6.2//NONSGML v1.0//EN
CALSCALE:GREGORIAN
METHOD:PUBLISH
X-WR-CALNAME:Pyhäranta
X-ORIGINAL-URL:https://www.pyharanta.fi
X-WR-CALDESC:Events for Pyhäranta
REFRESH-INTERVAL;VALUE=DURATION:PT1H
X-Robots-Tag:noindex
X-PUBLISHED-TTL:PT1H
BEGIN:VTIMEZONE
TZID:Europe/Helsinki
BEGIN:DAYLIGHT
TZOFFSETFROM:+0200
TZOFFSETTO:+0300
TZNAME:EEST
DTSTART:20240331T010000
END:DAYLIGHT
BEGIN:STANDARD
TZOFFSETFROM:+0300
TZOFFSETTO:+0200
TZNAME:EET
DTSTART:20241027T010000
END:STANDARD
END:VTIMEZONE
BEGIN:VEVENT
DTSTART;TZID=Europe/Helsinki:20240810T150000
DTEND;TZID=Europe/Helsinki:20240810T180000
DTSTAMP:20260420T062554
CREATED:20240613T123128Z
LAST-MODIFIED:20240613T123128Z
UID:10000203-1723302000-1723312800@www.pyharanta.fi
SUMMARY:Koko perheen pääsymaksuton musiikkifestivaali
DESCRIPTION:Lauantaina 10.8.2024 klo 15 alkaen\nKirikallion tanssilavalla\nKirikalliontie 10\, Ihode\nKokoperheen pääsymaksuton musiikkifestivaali.\nÖtökkäbändi Hyvä Ajatus aloittaa ja\nKielinuppubändi jatkaa musiikillista iloittelua kesäisissä tunnelmissa.\nTapahtuma on pääsymaksuton!\nAlueella buffet ja muuta pientä oheistoimintaa.\nTervetuloa!
URL:https://www.pyharanta.fi/event/koko-perheen-paasymaksuton-musiikkifestivaali/
CATEGORIES:Kulttuuritapahtumat,Tapahtumakalenteri
END:VEVENT
BEGIN:VEVENT
DTSTART;TZID=Europe/Helsinki:20240810T190000
DTEND;TZID=Europe/Helsinki:20240810T230000
DTSTAMP:20260420T062554
CREATED:20240530T121222Z
LAST-MODIFIED:20240530T121222Z
UID:10000194-1723316400-1723330800@www.pyharanta.fi
SUMMARY:Kesätanssit Yliskallion lavalla\, tanssittajana Rosa Narmala & Satelliittitaivas
DESCRIPTION:
URL:https://www.pyharanta.fi/event/kesatanssit-yliskallion-lavalla-tanssittajana-rosa-narmala-satelliittitaivas/
END:VEVENT
END:VCALENDAR