BEGIN:VCALENDAR
VERSION:2.0
PRODID:-//Pyhäranta - ECPv6.6.2//NONSGML v1.0//EN
CALSCALE:GREGORIAN
METHOD:PUBLISH
X-ORIGINAL-URL:https://www.pyharanta.fi
X-WR-CALDESC:Events for Pyhäranta
REFRESH-INTERVAL;VALUE=DURATION:PT1H
X-Robots-Tag:noindex
X-PUBLISHED-TTL:PT1H
BEGIN:VTIMEZONE
TZID:Europe/Helsinki
BEGIN:DAYLIGHT
TZOFFSETFROM:+0200
TZOFFSETTO:+0300
TZNAME:EEST
DTSTART:20240331T010000
END:DAYLIGHT
BEGIN:STANDARD
TZOFFSETFROM:+0300
TZOFFSETTO:+0200
TZNAME:EET
DTSTART:20241027T010000
END:STANDARD
END:VTIMEZONE
BEGIN:VEVENT
DTSTART;TZID=Europe/Helsinki:20240928T100000
DTEND;TZID=Europe/Helsinki:20240928T130000
DTSTAMP:20260420T045604
CREATED:20240704T083836Z
LAST-MODIFIED:20240704T083916Z
UID:10000208-1727517600-1727528400@www.pyharanta.fi
SUMMARY:Ihoden kylätori
DESCRIPTION:Lions Club Pyhärannan tapahtuma järjestetään perinteisesti Ihoden koululla\nLA 28.09.2024 klo 10-13 \nTorialuemyyjille tiedoksi: Paikkatiedustelut/varaukset textarilla 0405075055 (Taija); 0503547368 (Elise).
URL:https://www.pyharanta.fi/event/ihoden-kylatori/
END:VEVENT
END:VCALENDAR