BEGIN:VCALENDAR
VERSION:2.0
PRODID:-//Pyhäranta - ECPv6.6.2//NONSGML v1.0//EN
CALSCALE:GREGORIAN
METHOD:PUBLISH
X-WR-CALNAME:Pyhäranta
X-ORIGINAL-URL:https://www.pyharanta.fi
X-WR-CALDESC:Events for Pyhäranta
REFRESH-INTERVAL;VALUE=DURATION:PT1H
X-Robots-Tag:noindex
X-PUBLISHED-TTL:PT1H
BEGIN:VTIMEZONE
TZID:Europe/Helsinki
BEGIN:DAYLIGHT
TZOFFSETFROM:+0200
TZOFFSETTO:+0300
TZNAME:EEST
DTSTART:20250330T010000
END:DAYLIGHT
BEGIN:STANDARD
TZOFFSETFROM:+0300
TZOFFSETTO:+0200
TZNAME:EET
DTSTART:20251026T010000
END:STANDARD
END:VTIMEZONE
BEGIN:VEVENT
DTSTART;TZID=Europe/Helsinki:20250413T080000
DTEND;TZID=Europe/Helsinki:20250413T200000
DTSTAMP:20260419T183119
CREATED:20250124T130532Z
LAST-MODIFIED:20250124T130532Z
UID:10000252-1744531200-1744574400@www.pyharanta.fi
SUMMARY:Alue- ja kuntavaalit\, varsinainen vaalipäivä
DESCRIPTION:
URL:https://www.pyharanta.fi/event/alue-ja-kuntavaalit-varsinainen-vaalipaiva/
END:VEVENT
END:VCALENDAR