BEGIN:VCALENDAR
VERSION:2.0
PRODID:-//Pyhäranta - ECPv6.6.2//NONSGML v1.0//EN
CALSCALE:GREGORIAN
METHOD:PUBLISH
X-WR-CALNAME:Pyhäranta
X-ORIGINAL-URL:https://www.pyharanta.fi
X-WR-CALDESC:Events for Pyhäranta
REFRESH-INTERVAL;VALUE=DURATION:PT1H
X-Robots-Tag:noindex
X-PUBLISHED-TTL:PT1H
BEGIN:VTIMEZONE
TZID:Europe/Helsinki
BEGIN:DAYLIGHT
TZOFFSETFROM:+0200
TZOFFSETTO:+0300
TZNAME:EEST
DTSTART:20250330T010000
END:DAYLIGHT
BEGIN:STANDARD
TZOFFSETFROM:+0300
TZOFFSETTO:+0200
TZNAME:EET
DTSTART:20251026T010000
END:STANDARD
END:VTIMEZONE
BEGIN:VEVENT
DTSTART;TZID=Europe/Helsinki:20250503T140000
DTEND;TZID=Europe/Helsinki:20250503T170000
DTSTAMP:20260419T170753
CREATED:20250411T083150Z
LAST-MODIFIED:20250411T083150Z
UID:10000268-1746280800-1746291600@www.pyharanta.fi
SUMMARY:MLL Liikennetapahtuma koko perheelle
DESCRIPTION:Suuri\, koko perheen liikennetapahtuma tulee taas! Tervetuloa ihailemaan isoja koneita\, ajamaan sähköautoilla\, rapsuttelemaan eläimiä ja viettämään riemukasta vappuviikonloppua kanssamme!  \n\nVaraathan pikkurahaa mukaan!Tapahtumaan vapaa pääsy.\n\nLue lisää: https://www.facebook.com/events/1307367520549246\nJärjestäjä: Pyhärannan MLL
URL:https://www.pyharanta.fi/event/mll-liikennetapahtuma-koko-perheelle/
LOCATION:Ihoden kylätie 27
CATEGORIES:Kulttuuritapahtumat,Tapahtumakalenteri
END:VEVENT
END:VCALENDAR