BEGIN:VCALENDAR
VERSION:2.0
PRODID:-//Pyhäranta - ECPv6.6.2//NONSGML v1.0//EN
CALSCALE:GREGORIAN
METHOD:PUBLISH
X-ORIGINAL-URL:https://www.pyharanta.fi
X-WR-CALDESC:Events for Pyhäranta
REFRESH-INTERVAL;VALUE=DURATION:PT1H
X-Robots-Tag:noindex
X-PUBLISHED-TTL:PT1H
BEGIN:VTIMEZONE
TZID:Europe/Helsinki
BEGIN:DAYLIGHT
TZOFFSETFROM:+0200
TZOFFSETTO:+0300
TZNAME:EEST
DTSTART:20250330T010000
END:DAYLIGHT
BEGIN:STANDARD
TZOFFSETFROM:+0300
TZOFFSETTO:+0200
TZNAME:EET
DTSTART:20251026T010000
END:STANDARD
END:VTIMEZONE
BEGIN:VEVENT
DTSTART;TZID=Europe/Helsinki:20250504T100000
DTEND;TZID=Europe/Helsinki:20250504T120000
DTSTAMP:20260419T170826
CREATED:20250411T083945Z
LAST-MODIFIED:20250411T084021Z
UID:10000271-1746352800-1746360000@www.pyharanta.fi
SUMMARY:MLL perheliikkari ja sähly\, Reila
DESCRIPTION:Reilassa vietetään kevään viimeistä liikkaria\nPerheliikkari parillisilla viikoilla klo 10.00 – 12.00\nSähly 1-6.lk klo 16.30 – 17.30\nSähly 7-9lk. klo 17.30 -18.30 \nReilan koulun liikuntasalissa\nEemelintie 6\, 27340 Reila \n  \nJärjestäjä: Pyhärannan MLL\nhttps://pyharanta.mll.fi/toiminta/
URL:https://www.pyharanta.fi/event/reilan-perheliikkari-ja-sahly/
CATEGORIES:Harrastuskalenteri,Tapahtumakalenteri
END:VEVENT
BEGIN:VEVENT
DTSTART;TZID=Europe/Helsinki:20250504T180000
DTEND;TZID=Europe/Helsinki:20250504T190000
DTSTAMP:20260419T170826
CREATED:20250411T110556Z
LAST-MODIFIED:20250411T110556Z
UID:10000273-1746381600-1746385200@www.pyharanta.fi
SUMMARY:Maastojuoksutreenit\, Rohdainen
DESCRIPTION:Tervetuloa kevään maastojuoksutreeneihin Rohdaisiin!Paikka: Rohdaisten koulun pururata\, Rantatie 5Aika: klo 18–19\, toukokuun joka sunnuntai\nKokoonnumme toukokuussa neljä kertaa Rohdaisten pururadalle juoksemaan eripituisia reittejä. Lyhyin lenkki pururadalla on 300 metriä\, joten mukaan ovat tervetulleita kaikki kävely- ja juoksukuntoiset.\n\n Ensin lämmitellään ohjaajien opastuksella\, sitten juostaan lenkki – ohjaajat antavat reittisuositukset ikäluokan mukaan.\nJuoksun jälkeen osallistujille on tarjolla mehua. Ota mukaan myös oma vesipullo!\n\nJärjestäjä: Pyhärannan MyrskyTreenit ovat maksuttomia ja avoimia kaikenikäisille.
URL:https://www.pyharanta.fi/event/maastojuoksutreenit-rohdainen/2025-05-04/
CATEGORIES:Harrastuskalenteri
ATTACH;FMTTYPE=image/jpeg:https://www.pyharanta.fi/wp-content/uploads/2025/04/maastojuoksut-myrsky.jpg
END:VEVENT
END:VCALENDAR