BEGIN:VCALENDAR
VERSION:2.0
PRODID:-//Pyhäranta - ECPv6.6.2//NONSGML v1.0//EN
CALSCALE:GREGORIAN
METHOD:PUBLISH
X-ORIGINAL-URL:https://www.pyharanta.fi
X-WR-CALDESC:Events for Pyhäranta
REFRESH-INTERVAL;VALUE=DURATION:PT1H
X-Robots-Tag:noindex
X-PUBLISHED-TTL:PT1H
BEGIN:VTIMEZONE
TZID:Europe/Helsinki
BEGIN:DAYLIGHT
TZOFFSETFROM:+0200
TZOFFSETTO:+0300
TZNAME:EEST
DTSTART:20250330T010000
END:DAYLIGHT
BEGIN:STANDARD
TZOFFSETFROM:+0300
TZOFFSETTO:+0200
TZNAME:EET
DTSTART:20251026T010000
END:STANDARD
END:VTIMEZONE
BEGIN:VEVENT
DTSTART;TZID=Europe/Helsinki:20250506T170000
DTEND;TZID=Europe/Helsinki:20250506T193000
DTSTAMP:20260419T170825
CREATED:20250407T072844Z
LAST-MODIFIED:20250407T072949Z
UID:10000265-1746550800-1746559800@www.pyharanta.fi
SUMMARY:Monimuotoisuus-työpaja yhdistyksille
DESCRIPTION:Luonnon monimuotoisuuden tuotteistaminen -työpaja yhdistyksille 6.5.\n\nIlmoittaudu tältä sivulta (yhdistyksen y-tunnuksella): https://tilaisuudet.proagria.fi/event/gowz6\n\n\nHankkeen tapahtumat ovat maksuttomia. Tilaisuudet ovat avoimia kaikille kiinnostuneille. \n\nProAgrian Lisää lumoa -hankkeeseen liittyvässä työpajassa annetaan yhdistyksille tietoa ja taitoja lisätä luonnon monimuotoisuutta omilla arkipäiväisillä toimilla. Perinnebiotooppien hoito ja kunnostaminen ovat erityisen tärkeitä\, sillä perinnebiotoopeilla elää noin neljännes uhanalaisesta lajistostamme.\n\n\nOhjelma:• Santtioseura esittelee toimintaansa ja kahvit• Alustus tuotteistustyöhön• Pienryhmätoiminta• Pienryhmien tulosten purkaminen• Kierros lähiympäristössä ja tuotteistuksen jatkostepit\n\n\nTyöpajaan ovat tervetulleita yhdistykset\, jotka:• Ovat kiinnostuneita omilla toimillaan lisäämään luonnon monimuotoisuutta• Haluavat saada lisää tietoa luonnon monimuotoisuuden lisäämisestä ja alueiden hoidosta• Kaipaavat sparrausta ja ajatusten jakamista omien ideoiden työstämiseksi\n\nTervetuloa! Palokuja 6\, 23960 Santtio \n\nAiheeseen liittyvät\, maksuttomat webinaarit sekä lisätietoa löytyy osoitteesta: www.proagria.fi/hankkeet/lisaa-lumoa
URL:https://www.pyharanta.fi/event/monimuotoisuus-tyopaja-yhdistyksille/
CATEGORIES:Tapahtumakalenteri
END:VEVENT
BEGIN:VEVENT
DTSTART;TZID=Europe/Helsinki:20250506T180000
DTEND;TZID=Europe/Helsinki:20250506T200000
DTSTAMP:20260419T170825
CREATED:20250124T131457Z
LAST-MODIFIED:20250408T065424Z
UID:10000257-1746554400-1746561600@www.pyharanta.fi
SUMMARY:Kunnanhallituksen kokous
DESCRIPTION:
URL:https://www.pyharanta.fi/event/kunnanhallituksen-kokous-45/
END:VEVENT
END:VCALENDAR