BEGIN:VCALENDAR
VERSION:2.0
PRODID:-//Pyhäranta - ECPv6.6.2//NONSGML v1.0//EN
CALSCALE:GREGORIAN
METHOD:PUBLISH
X-ORIGINAL-URL:https://www.pyharanta.fi
X-WR-CALDESC:Events for Pyhäranta
REFRESH-INTERVAL;VALUE=DURATION:PT1H
X-Robots-Tag:noindex
X-PUBLISHED-TTL:PT1H
BEGIN:VTIMEZONE
TZID:Europe/Helsinki
BEGIN:DAYLIGHT
TZOFFSETFROM:+0200
TZOFFSETTO:+0300
TZNAME:EEST
DTSTART:20250330T010000
END:DAYLIGHT
BEGIN:STANDARD
TZOFFSETFROM:+0300
TZOFFSETTO:+0200
TZNAME:EET
DTSTART:20251026T010000
END:STANDARD
END:VTIMEZONE
BEGIN:VEVENT
DTSTART;TZID=Europe/Helsinki:20250511T180000
DTEND;TZID=Europe/Helsinki:20250511T190000
DTSTAMP:20260419T170834
CREATED:20250411T110556Z
LAST-MODIFIED:20250411T110556Z
UID:10000274-1746986400-1746990000@www.pyharanta.fi
SUMMARY:Maastojuoksutreenit\, Rohdainen
DESCRIPTION:Tervetuloa kevään maastojuoksutreeneihin Rohdaisiin!Paikka: Rohdaisten koulun pururata\, Rantatie 5Aika: klo 18–19\, toukokuun joka sunnuntai\nKokoonnumme toukokuussa neljä kertaa Rohdaisten pururadalle juoksemaan eripituisia reittejä. Lyhyin lenkki pururadalla on 300 metriä\, joten mukaan ovat tervetulleita kaikki kävely- ja juoksukuntoiset.\n\n Ensin lämmitellään ohjaajien opastuksella\, sitten juostaan lenkki – ohjaajat antavat reittisuositukset ikäluokan mukaan.\nJuoksun jälkeen osallistujille on tarjolla mehua. Ota mukaan myös oma vesipullo!\n\nJärjestäjä: Pyhärannan MyrskyTreenit ovat maksuttomia ja avoimia kaikenikäisille.
URL:https://www.pyharanta.fi/event/maastojuoksutreenit-rohdainen/2025-05-11/
CATEGORIES:Harrastuskalenteri
ATTACH;FMTTYPE=image/jpeg:https://www.pyharanta.fi/wp-content/uploads/2025/04/maastojuoksut-myrsky.jpg
END:VEVENT
END:VCALENDAR