BEGIN:VCALENDAR
VERSION:2.0
PRODID:-//Pyhäranta - ECPv6.6.2//NONSGML v1.0//EN
CALSCALE:GREGORIAN
METHOD:PUBLISH
X-ORIGINAL-URL:https://www.pyharanta.fi
X-WR-CALDESC:Events for Pyhäranta
REFRESH-INTERVAL;VALUE=DURATION:PT1H
X-Robots-Tag:noindex
X-PUBLISHED-TTL:PT1H
BEGIN:VTIMEZONE
TZID:Europe/Helsinki
BEGIN:DAYLIGHT
TZOFFSETFROM:+0200
TZOFFSETTO:+0300
TZNAME:EEST
DTSTART:20250330T010000
END:DAYLIGHT
BEGIN:STANDARD
TZOFFSETFROM:+0300
TZOFFSETTO:+0200
TZNAME:EET
DTSTART:20251026T010000
END:STANDARD
END:VTIMEZONE
BEGIN:VEVENT
DTSTART;TZID=Europe/Helsinki:20250525T153000
DTEND;TZID=Europe/Helsinki:20250525T180000
DTSTAMP:20260419T170823
CREATED:20250506T085148Z
LAST-MODIFIED:20250513T083533Z
UID:10000337-1748187000-1748196000@www.pyharanta.fi
SUMMARY:Monitoimiareenan avajaiset
DESCRIPTION:Rohdaisten Reppu ry järjestää avajaiset\, jossa paljon ohjelmaa ja hattara-\, lettu- ja makkaramyyntiä.\nLahjakorttiarvonta. Reppu tarjoaa pullakahvit.
URL:https://www.pyharanta.fi/event/tarkastuslautakunnan-kokous-9/
CATEGORIES:Tapahtumakalenteri
END:VEVENT
BEGIN:VEVENT
DTSTART;TZID=Europe/Helsinki:20250525T180000
DTEND;TZID=Europe/Helsinki:20250525T190000
DTSTAMP:20260419T170823
CREATED:20250411T110556Z
LAST-MODIFIED:20250411T110556Z
UID:10000276-1748196000-1748199600@www.pyharanta.fi
SUMMARY:Maastojuoksutreenit\, Rohdainen
DESCRIPTION:Tervetuloa kevään maastojuoksutreeneihin Rohdaisiin!Paikka: Rohdaisten koulun pururata\, Rantatie 5Aika: klo 18–19\, toukokuun joka sunnuntai\nKokoonnumme toukokuussa neljä kertaa Rohdaisten pururadalle juoksemaan eripituisia reittejä. Lyhyin lenkki pururadalla on 300 metriä\, joten mukaan ovat tervetulleita kaikki kävely- ja juoksukuntoiset.\n\n Ensin lämmitellään ohjaajien opastuksella\, sitten juostaan lenkki – ohjaajat antavat reittisuositukset ikäluokan mukaan.\nJuoksun jälkeen osallistujille on tarjolla mehua. Ota mukaan myös oma vesipullo!\n\nJärjestäjä: Pyhärannan MyrskyTreenit ovat maksuttomia ja avoimia kaikenikäisille.
URL:https://www.pyharanta.fi/event/maastojuoksutreenit-rohdainen/2025-05-25/
CATEGORIES:Harrastuskalenteri
ATTACH;FMTTYPE=image/jpeg:https://www.pyharanta.fi/wp-content/uploads/2025/04/maastojuoksut-myrsky.jpg
END:VEVENT
END:VCALENDAR