BEGIN:VCALENDAR
VERSION:2.0
PRODID:-//Pyhäranta - ECPv6.6.2//NONSGML v1.0//EN
CALSCALE:GREGORIAN
METHOD:PUBLISH
X-ORIGINAL-URL:https://www.pyharanta.fi
X-WR-CALDESC:Events for Pyhäranta
REFRESH-INTERVAL;VALUE=DURATION:PT1H
X-Robots-Tag:noindex
X-PUBLISHED-TTL:PT1H
BEGIN:VTIMEZONE
TZID:Europe/Helsinki
BEGIN:DAYLIGHT
TZOFFSETFROM:+0200
TZOFFSETTO:+0300
TZNAME:EEST
DTSTART:20250330T010000
END:DAYLIGHT
BEGIN:STANDARD
TZOFFSETFROM:+0300
TZOFFSETTO:+0200
TZNAME:EET
DTSTART:20251026T010000
END:STANDARD
END:VTIMEZONE
BEGIN:VEVENT
DTSTART;TZID=Europe/Helsinki:20250628T160000
DTEND;TZID=Europe/Helsinki:20250628T200000
DTSTAMP:20260419T153129
CREATED:20250411T113845Z
LAST-MODIFIED:20250605T121829Z
UID:10000333-1751126400-1751140800@www.pyharanta.fi
SUMMARY:Maakunnallinen kyläjuhla\, Santtio
DESCRIPTION:Pyhärannan Santtio voitti Vuoden Varsinais-Suomen kylä -palkinnon vuonna 2024\, ja nyt on aika luovuttaa puusta veistetty pokaali seuraavalle voittajalle. Voittajan palkitsee Varsinais-Suomen Kylät ry ja kisan tuomaristo. \n \nMaakuntajuhlan ohjelmassa la 28.6. klo 15–19\n-Törmälä Bros-orkesteri\n-Maddaleena – laulava nukke\n-Fake-teatterin teaser “Liian paksu perhoseksi”-esityksestä\n-Varsinais-Suomen vuoden kylän palkitseminen ja puheenvuorot\n-Sirkusesitys\n-Rannassa mm. vanhoja autoja\, toimintaesittelyä\, pomppulinna\, puffetti \n  \n \n• Santtioseuran kioski on auki. Tarjolla lettuja\, makkaraa\, kahvia\, jäätelöä ja muuta herkkua\n• Alueella on myös yleinen uimaranta pukukoppeineen sekä lasten leikkipuisto \n  \nMaininki-talossa esillä taiteilija Einari K. Jalavan maalauksia Santtiolta klo 14–20. (Palokuja 6)\nTapahtumahanke on saanut EU:n maaseuturahoitusta Leader Ravakalta. \n\n\nOsoite: Santtionranta\, 23960\, Pyhäranta: Google maps \nTervetuloa maksuttomaan koko perheen tapahtumaan selvittämään\, kuka on vuoden Varsinais-Suomen kylä 2025! \nJärjestäjät: Santtioseura\, Varsinais-Suomen kylät \nKatso lisätietoja Santtioseuran sivustolta tai some-kanavista.
URL:https://www.pyharanta.fi/event/santtiopaiva-maakunnallinen-kylajuhla/
CATEGORIES:Kulttuuritapahtumat,Tapahtumakalenteri
ATTACH;FMTTYPE=image/jpeg:https://www.pyharanta.fi/wp-content/uploads/2025/04/vuodenvarsinaissuomenkyla.jpg
END:VEVENT
END:VCALENDAR