BEGIN:VCALENDAR
VERSION:2.0
PRODID:-//Pyhäranta - ECPv6.6.2//NONSGML v1.0//EN
CALSCALE:GREGORIAN
METHOD:PUBLISH
X-WR-CALNAME:Pyhäranta
X-ORIGINAL-URL:https://www.pyharanta.fi
X-WR-CALDESC:Events for Pyhäranta
REFRESH-INTERVAL;VALUE=DURATION:PT1H
X-Robots-Tag:noindex
X-PUBLISHED-TTL:PT1H
BEGIN:VTIMEZONE
TZID:Europe/Helsinki
BEGIN:DAYLIGHT
TZOFFSETFROM:+0200
TZOFFSETTO:+0300
TZNAME:EEST
DTSTART:20260329T010000
END:DAYLIGHT
BEGIN:STANDARD
TZOFFSETFROM:+0300
TZOFFSETTO:+0200
TZNAME:EET
DTSTART:20261025T010000
END:STANDARD
END:VTIMEZONE
BEGIN:VEVENT
DTSTART;TZID=Europe/Helsinki:20260312T120000
DTEND;TZID=Europe/Helsinki:20260312T143000
DTSTAMP:20260421T115804
CREATED:20251204T125805Z
LAST-MODIFIED:20260205T095302Z
UID:10000392-1773316800-1773325800@www.pyharanta.fi
SUMMARY:Ikäihmisten Päivätoiminta
DESCRIPTION:Vanhusneuvoston ja Nälkloukkan Kyläyhdistys ry:n  järjestämät Päivätoimintapäivät Kaukan kyläkodilla (osoite Kaukanraitti 24). \nAiheena Kunnan ajankohtaiskatsaus \nAsiantuntijana Kunnan edustaja
URL:https://www.pyharanta.fi/event/ikaihmisten-paivatoiminta-6/
END:VEVENT
BEGIN:VEVENT
DTSTART;TZID=Europe/Helsinki:20260312T173000
DTEND;TZID=Europe/Helsinki:20260312T190000
DTSTAMP:20260421T115804
CREATED:20260305T073222Z
LAST-MODIFIED:20260305T073222Z
UID:10000398-1773336600-1773342000@www.pyharanta.fi
SUMMARY:KUNTALAISILTA - Hyvinvoinnin edistäminen
DESCRIPTION:Tervetuloa osallistumaan kaikille kuntalaisille avoimeen iltaan!\nPaikka: Ihoden koulussa Virveli \nAika: klo 17.30-19.00
URL:https://www.pyharanta.fi/event/kuntalaisilta-hyvinvoinnin-edistaminen/
LOCATION:Ihoden kylätie 27
END:VEVENT
END:VCALENDAR