BEGIN:VCALENDAR
VERSION:2.0
PRODID:-//Pyhäranta - ECPv6.6.2//NONSGML v1.0//EN
CALSCALE:GREGORIAN
METHOD:PUBLISH
X-WR-CALNAME:Pyhäranta
X-ORIGINAL-URL:https://www.pyharanta.fi
X-WR-CALDESC:Events for Pyhäranta
REFRESH-INTERVAL;VALUE=DURATION:PT1H
X-Robots-Tag:noindex
X-PUBLISHED-TTL:PT1H
BEGIN:VTIMEZONE
TZID:Europe/Helsinki
BEGIN:DAYLIGHT
TZOFFSETFROM:+0200
TZOFFSETTO:+0300
TZNAME:EEST
DTSTART:20240331T010000
END:DAYLIGHT
BEGIN:STANDARD
TZOFFSETFROM:+0300
TZOFFSETTO:+0200
TZNAME:EET
DTSTART:20241027T010000
END:STANDARD
END:VTIMEZONE
BEGIN:VEVENT
DTSTART;TZID=Europe/Helsinki:20240629T100000
DTEND;TZID=Europe/Helsinki:20240629T180000
DTSTAMP:20260420T042313
CREATED:20240527T125258Z
LAST-MODIFIED:20240617T085429Z
UID:10000170-1719655200-1719684000@www.pyharanta.fi
SUMMARY:Pyhärantapäivä Santtionrannassa
DESCRIPTION:Musiikkipitoisesta ohjelmasta vastaavat trio Jussi Lammela\, Arto Nuotio ja Petri Haapasalo sekä Rokki Kokki-lastenmusabändi.\nLavalla myös Viulunsoitta katolla -esityksen pääosan esittäjä Juha Hostikka.\nPaikalla ovat myös kunnan edustajat\, tervetuloa juttelemaan!\nPyhärannan kunnan yhteistyökumppanit esittelevät omaa toimintaansa.\nAikataulu:\n•	16.15 Pyhärannan kunnanjohtajan Jukka Laiho avaa tapahtuman\n•	16.30 Rokki-Kokki -lasten musabändi\n•	17.00 Trio Jussi Lammela\, Arto Nuotio ja Petri Haapasalo\n•	18.00 Rokki-kokki -lasten musabändi\n•	18.30 Dallapé-orkesterista tuttu Juha Hostikka esittää Santtion kesäteatterin sävelmiä (VIulunsoittaja katolla -esityksestä)\n•	19.00 Trio Jussi Lammela\, Arto Nuotio ja Petri Haapasalo\n•	klo 20 tapahtuma päättyy
URL:https://www.pyharanta.fi/event/pyharantapaiva-santtionrannassa/
CATEGORIES:Tapahtumakalenteri
END:VEVENT
BEGIN:VEVENT
DTSTART;TZID=Europe/Helsinki:20240627T180000
DTEND;TZID=Europe/Helsinki:20240627T200000
DTSTAMP:20260420T042313
CREATED:20240612T133854Z
LAST-MODIFIED:20240612T133854Z
UID:10000202-1719511200-1719518400@www.pyharanta.fi
SUMMARY:Kunnanvaltuuston kokous
DESCRIPTION:
URL:https://www.pyharanta.fi/event/kunnanvaltuuston-kokous-9/
END:VEVENT
BEGIN:VEVENT
DTSTART;TZID=Europe/Helsinki:20240624T180000
DTEND;TZID=Europe/Helsinki:20240624T200000
DTSTAMP:20260420T042313
CREATED:20240614T121606Z
LAST-MODIFIED:20240614T194344Z
UID:10000204-1719252000-1719259200@www.pyharanta.fi
SUMMARY:Kukkakävely Rohdaisten pururadalla
DESCRIPTION:Kukkakävely Rohdaisten pururadalla. Lähtö koulun kohdalta ja kierretään alppiruusupuisto.\nTervetuloa mukaan!
URL:https://www.pyharanta.fi/event/kukkakavely-rohdaisten-pururadalla/
CATEGORIES:Kulttuuritapahtumat,Tapahtumakalenteri
END:VEVENT
BEGIN:VEVENT
DTSTART;TZID=Europe/Helsinki:20240624T180000
DTEND;TZID=Europe/Helsinki:20240624T190000
DTSTAMP:20260420T042313
CREATED:20240605T101112Z
LAST-MODIFIED:20240605T101112Z
UID:10000198-1719252000-1719255600@www.pyharanta.fi
SUMMARY:Pyhärannan Myrsky: Yleisurheiluharjoitukset Rohdaisten yleisurheilukentällä
DESCRIPTION:Treenataan yhdessä YU-lajeja Rohdaisten urheilukentällä. Ensimmäisellä ja viimeisellä kerralla juoksemme myös Cooperin testin eli sinulla on mahdollisuus verrata alku- ja loppukesän tuloksia! Lajeina opetellaan mm. pikajuoksua\, pituutta\, pallonheittoa\, korkeutta\, keihästä ja kuulaa. Lasten varusteiksi riittää esim. lenkkarit\, vesipullo\, lippis ja aurinkorasva – vaatetus riippuen säästä.\n●	Paikka: Rohdaisten yleisurheilukenttä\, Leiritie\n●	Aika: kesäkuun joka maanantai sekä 5.8. ja 12.8. klo 18–19. Heinäkuu pidetään taukoa.\n●	Kaikille avoimet ja maksuttomat treenit.
URL:https://www.pyharanta.fi/event/pyharannan-myrsky-yleisurheiluharjoitukset-rohdaisten-yleisurheilukentalla-2/
CATEGORIES:Harrastuskalenteri,Tapahtumakalenteri
END:VEVENT
BEGIN:VEVENT
DTSTART;TZID=Europe/Helsinki:20240623T130000
DTEND;TZID=Europe/Helsinki:20240623T150000
DTSTAMP:20260420T042313
CREATED:20240527T124755Z
LAST-MODIFIED:20240527T124755Z
UID:10000169-1719147600-1719154800@www.pyharanta.fi
SUMMARY:Santtion juhannus
DESCRIPTION:Saaristolaisjumalanpalvelus Ilmin rannassa klo 13.\nSanttioseura tarjoaa kirkkokahvit!
URL:https://www.pyharanta.fi/event/santtion-juhannus-3/
CATEGORIES:Tapahtumakalenteri,Yleiset
END:VEVENT
BEGIN:VEVENT
DTSTART;TZID=Europe/Helsinki:20240622T190000
DTEND;TZID=Europe/Helsinki:20240622T230000
DTSTAMP:20260420T042313
CREATED:20240530T115430Z
LAST-MODIFIED:20240530T115430Z
UID:10000191-1719082800-1719097200@www.pyharanta.fi
SUMMARY:Juhannustanssit Yliskallion lavalla\, tanssittajana Sakke Kotilainen &Focus
DESCRIPTION:
URL:https://www.pyharanta.fi/event/juhannustanssit-yliskallion-lavalla-tanssittajana-sakke-kotilainen-focus/
END:VEVENT
BEGIN:VEVENT
DTSTART;TZID=Europe/Helsinki:20240621T090000
DTEND;TZID=Europe/Helsinki:20240621T233000
DTSTAMP:20260420T042313
CREATED:20240527T122842Z
LAST-MODIFIED:20240527T122842Z
UID:10000168-1718960400-1719012600@www.pyharanta.fi
SUMMARY:Santtion juhannus
DESCRIPTION:• klo 9 alkaen: Kukkien sidontaa ja juhannussalon koristelua sekä muuta valmistelua iltaa varten Mainingin pihalla. Tervetuloa uudet ja vanhat tekijät!\n• klo 15–17.30: Pyhärannan MLL:n järjestämä lasten juhannusjuhla Santtionrannassa. Luvassa mm. uimista\, pientä purtavaa\, kesäleikkejä ja -pelejä. Vapaa pääsy.\n• klo 18: Perinteinen lipunnosto\, juhannussalon pystytys sekä lauluhetki Mainingin pihalla. Kahvio auki.
URL:https://www.pyharanta.fi/event/santtion-juhannus-2/
CATEGORIES:Yleiset
END:VEVENT
BEGIN:VEVENT
DTSTART;TZID=Europe/Helsinki:20240620T170000
DTEND;TZID=Europe/Helsinki:20240620T200000
DTSTAMP:20260420T042313
CREATED:20240527T122603Z
LAST-MODIFIED:20240527T122603Z
UID:10000167-1718902800-1718913600@www.pyharanta.fi
SUMMARY:Santtion juhannus
DESCRIPTION:Kukkien keruuta salon koristelua varten. Kokoonnutaan Mainingin pihalla klo 17.
URL:https://www.pyharanta.fi/event/santtion-juhannus/
CATEGORIES:Yleiset
END:VEVENT
BEGIN:VEVENT
DTSTART;TZID=Europe/Helsinki:20240619T180000
DTEND;TZID=Europe/Helsinki:20240619T200000
DTSTAMP:20260420T042313
CREATED:20240612T133659Z
LAST-MODIFIED:20240612T133659Z
UID:10000201-1718820000-1718827200@www.pyharanta.fi
SUMMARY:Kunnanhallituksen kokous
DESCRIPTION:
URL:https://www.pyharanta.fi/event/kunnanhallituksen-kokous-28/
END:VEVENT
BEGIN:VEVENT
DTSTART;TZID=Europe/Helsinki:20240617T180000
DTEND;TZID=Europe/Helsinki:20240617T190000
DTSTAMP:20260420T042313
CREATED:20240605T101009Z
LAST-MODIFIED:20240605T101009Z
UID:10000197-1718647200-1718650800@www.pyharanta.fi
SUMMARY:Pyhärannan Myrsky: Yleisurheiluharjoitukset Rohdaisten yleisurheilukentällä
DESCRIPTION:Treenataan yhdessä YU-lajeja Rohdaisten urheilukentällä. Ensimmäisellä ja viimeisellä kerralla juoksemme myös Cooperin testin eli sinulla on mahdollisuus verrata alku- ja loppukesän tuloksia! Lajeina opetellaan mm. pikajuoksua\, pituutta\, pallonheittoa\, korkeutta\, keihästä ja kuulaa. Lasten varusteiksi riittää esim. lenkkarit\, vesipullo\, lippis ja aurinkorasva – vaatetus riippuen säästä.\n●	Paikka: Rohdaisten yleisurheilukenttä\, Leiritie\n●	Aika: kesäkuun joka maanantai sekä 5.8. ja 12.8. klo 18–19. Heinäkuu pidetään taukoa.\n●	Kaikille avoimet ja maksuttomat treenit.
URL:https://www.pyharanta.fi/event/pyharannan-myrsky-yleisurheiluharjoitukset-rohdaisten-yleisurheilukentalla/
END:VEVENT
BEGIN:VEVENT
DTSTART;TZID=Europe/Helsinki:20240611T180000
DTEND;TZID=Europe/Helsinki:20240611T200000
DTSTAMP:20260420T042313
CREATED:20240104T150901Z
LAST-MODIFIED:20240429T115629Z
UID:10000119-1718128800-1718136000@www.pyharanta.fi
SUMMARY:Kunnanhallituksen kokous
DESCRIPTION:
URL:https://www.pyharanta.fi/event/kunnanhallituksen-kokous-26/
END:VEVENT
BEGIN:VEVENT
DTSTART;TZID=Europe/Helsinki:20240610T180000
DTEND;TZID=Europe/Helsinki:20240610T190000
DTSTAMP:20260420T042313
CREATED:20240605T100643Z
LAST-MODIFIED:20240605T100852Z
UID:10000196-1718042400-1718046000@www.pyharanta.fi
SUMMARY:Pyhärannan Myrsky: Yleisurheiluharjoitukset Rohdaisten yleisurheilukentällä
DESCRIPTION:Treenataan yhdessä YU-lajeja Rohdaisten urheilukentällä. Ensimmäisellä ja viimeisellä kerralla juoksemme myös Cooperin testin eli sinulla on mahdollisuus verrata alku- ja loppukesän tuloksia! Lajeina opetellaan mm. pikajuoksua\, pituutta\, pallonheittoa\, korkeutta\, keihästä ja kuulaa. Lasten varusteiksi riittää esim. lenkkarit\, vesipullo\, lippis ja aurinkorasva – vaatetus riippuen säästä.\n●	Paikka: Rohdaisten yleisurheilukenttä\, Leiritie\n●	Aika: kesäkuun joka maanantai sekä 5.8. ja 12.8. klo 18–19. Heinäkuu pidetään taukoa.\n●	Kaikille avoimet ja maksuttomat treenit.
URL:https://www.pyharanta.fi/event/pyharannan-myrsky-yleisurheiluharjoitukset-rohdaisten-yleisurheilukentalla-leiritie/
CATEGORIES:Harrastuskalenteri,Tapahtumakalenteri
END:VEVENT
BEGIN:VEVENT
DTSTART;TZID=Europe/Helsinki:20240608T100000
DTEND;TZID=Europe/Helsinki:20240608T140000
DTSTAMP:20260420T042314
CREATED:20240527T122226Z
LAST-MODIFIED:20240528T083842Z
UID:10000166-1717840800-1717855200@www.pyharanta.fi
SUMMARY:Avoimet kylät Santtiolla
DESCRIPTION:Pyhärannan Santtionrannassa järjestetään maksuton kirppistapahtuma\, jonne voit tuoda tavaraa myytäväksi tai annettavaksi teatterikatsomoon tai auton peräkonttiin. Paikalla myös Pyhärannan Korpiankkurit ry paistamassa lettuja! Rannassa on auki Santtioseuran kioski.
URL:https://www.pyharanta.fi/event/avoimet-kylat-santtiolla/
CATEGORIES:Yleiset
END:VEVENT
BEGIN:VEVENT
DTSTART;TZID=Europe/Helsinki:20240603T180000
DTEND;TZID=Europe/Helsinki:20240603T200000
DTSTAMP:20260420T042314
CREATED:20240104T150825Z
LAST-MODIFIED:20240522T083001Z
UID:10000118-1717437600-1717444800@www.pyharanta.fi
SUMMARY:Kunnanhallituksen kokous
DESCRIPTION:
URL:https://www.pyharanta.fi/event/kunnanhallituksen-kokous-25/
END:VEVENT
BEGIN:VEVENT
DTSTART;TZID=Europe/Helsinki:20240603T180000
DTEND;TZID=Europe/Helsinki:20240603T190000
DTSTAMP:20260420T042314
CREATED:20240605T100403Z
LAST-MODIFIED:20240605T100821Z
UID:10000195-1717437600-1717441200@www.pyharanta.fi
SUMMARY:Pyhärannan Myrsky: Yleisurheiluharjoitukset Rohdaisten yleisurheilukentällä
DESCRIPTION:Treenataan yhdessä YU-lajeja Rohdaisten urheilukentällä. Ensimmäisellä ja viimeisellä kerralla juoksemme myös Cooperin testin eli sinulla on mahdollisuus verrata alku- ja loppukesän tuloksia! Lajeina opetellaan mm. pikajuoksua\, pituutta\, pallonheittoa\, korkeutta\, keihästä ja kuulaa. Lasten varusteiksi riittää esim. lenkkarit\, vesipullo\, lippis ja aurinkorasva – vaatetus riippuen säästä.\n●	Paikka: Rohdaisten yleisurheilukenttä\, Leiritie\n●	Aika: kesäkuun joka maanantai sekä 5.8. ja 12.8. klo 18–19. Heinäkuu pidetään taukoa.\n●	Kaikille avoimet ja maksuttomat treenit.
URL:https://www.pyharanta.fi/event/pyharannan-myrsky-yleisurheiluharjoitukset-rohdaisten-urheilukentalla/
CATEGORIES:Harrastuskalenteri,Tapahtumakalenteri
END:VEVENT
BEGIN:VEVENT
DTSTART;TZID=Europe/Helsinki:20240530T160000
DTEND;TZID=Europe/Helsinki:20240530T180000
DTSTAMP:20260420T042314
CREATED:20240202T085756Z
LAST-MODIFIED:20240524T110411Z
UID:10000146-1717084800-1717092000@www.pyharanta.fi
SUMMARY:Tarkastuslautakunnan kokous
DESCRIPTION:Teams 30.5.2024 klo 16-18
URL:https://www.pyharanta.fi/event/tarkastuslautakunnan-kokous-4/
END:VEVENT
BEGIN:VEVENT
DTSTART;TZID=Europe/Helsinki:20240526T130000
DTEND;TZID=Europe/Helsinki:20240526T150000
DTSTAMP:20260420T042314
CREATED:20240507T125045Z
LAST-MODIFIED:20240507T125045Z
UID:10000158-1716728400-1716735600@www.pyharanta.fi
SUMMARY:TERVETULOA KOTISEUTUKAHVEILLE
DESCRIPTION:Suomen Kotiseutuliitto viettää 75-vuotisjuhlavuottaan teemalla Rakkaudesta kotiseutuun. \nJuhlavuoden kotiseutukahvit nautitaan yhdistyksissä kautta koko Suomen sunnuntaina 26.5.2024. \nTervetuloa kaikki kotiseututyöstä kiinnostuneet ja kotiseudun ystävät yhteiseen kahvitapahtumaan Helinin torpalle Polttilaan ( Vanha Turuntie 182) klo 13-15 jutustelemaan. \nTeetäkin on toki tarjolla ja nisusta myös. \nTorpalla voit myös liittyä Pyhärannan kotiseutuyhdistyksen jäseneksi. Paikallishistoriasta kertovia kirjoja myynnissä. \nTervetuloa ihan jokainen. \nOheinen keväinen kuva on kuvakilpailun satoa. \n \n 
URL:https://www.pyharanta.fi/event/tervetuloa-kotiseutukahveille/
END:VEVENT
BEGIN:VEVENT
DTSTART;TZID=Europe/Helsinki:20240522T180000
DTEND;TZID=Europe/Helsinki:20240522T200000
DTSTAMP:20260420T042314
CREATED:20240202T090620Z
LAST-MODIFIED:20240202T090620Z
UID:10000149-1716400800-1716408000@www.pyharanta.fi
SUMMARY:Sivistystoimen lautakunnan kokous
DESCRIPTION:22.5.2024 klo 18
URL:https://www.pyharanta.fi/event/sivistystoimen-lautakunnan-kokous-3/
END:VEVENT
BEGIN:VEVENT
DTSTART;TZID=Europe/Helsinki:20240521T180000
DTEND;TZID=Europe/Helsinki:20240521T200000
DTSTAMP:20260420T042314
CREATED:20240104T150726Z
LAST-MODIFIED:20240104T150726Z
UID:10000117-1716314400-1716321600@www.pyharanta.fi
SUMMARY:Kunnanhallituksen kokous
DESCRIPTION:
URL:https://www.pyharanta.fi/event/kunnanhallituksen-kokous-24/
END:VEVENT
BEGIN:VEVENT
DTSTART;TZID=Europe/Helsinki:20240519T100000
DTEND;TZID=Europe/Helsinki:20240519T100000
DTSTAMP:20260420T042314
CREATED:20240513T131225Z
LAST-MODIFIED:20240515T120800Z
UID:10000159-1716112800-1716112800@www.pyharanta.fi
SUMMARY:Kaatuneitten muistopäivä 19.5.2024
DESCRIPTION:Kaatuneitten muistopäivän ohjelma: \n  \nJumalanpalvelus klo 10.00 \nSeppeleenlasku sankarihaudoille noin klo 11.00 \nKahvitilaisuus seurakuntakodilla noin klo 11.15 \n  \nJuhlapuhe: Mirja Kauppila-Laine \nOhjelmaan sisältyy yhteislaulut: Synnyinmaan laulu ja Veteraanin iltahuuto
URL:https://www.pyharanta.fi/event/kaatuneitten-muistopaivana-19-5-2024/
END:VEVENT
BEGIN:VEVENT
DTSTART;TZID=Europe/Helsinki:20240516T120000
DTEND;TZID=Europe/Helsinki:20240516T143000
DTSTAMP:20260420T042314
CREATED:20240111T125726Z
LAST-MODIFIED:20240111T125726Z
UID:10000140-1715860800-1715869800@www.pyharanta.fi
SUMMARY:Kaukan kyläkoti; Ikäihmisten päivätoiminta
DESCRIPTION:Musiikkipainotteinen ohjelma
URL:https://www.pyharanta.fi/event/kaukan-kylakoti-ikaihmisten-paivatoiminta-4/
END:VEVENT
BEGIN:VEVENT
DTSTART;TZID=Europe/Helsinki:20240507T180000
DTEND;TZID=Europe/Helsinki:20240507T200000
DTSTAMP:20260420T042314
CREATED:20240104T150650Z
LAST-MODIFIED:20240104T150650Z
UID:10000116-1715104800-1715112000@www.pyharanta.fi
SUMMARY:Kunnanhallituksen kokous
DESCRIPTION:
URL:https://www.pyharanta.fi/event/kunnanhallituksen-kokous-23/
END:VEVENT
BEGIN:VEVENT
DTSTART;TZID=Europe/Helsinki:20240507T130000
DTEND;TZID=Europe/Helsinki:20240507T150000
DTSTAMP:20260420T042314
CREATED:20240117T071542Z
LAST-MODIFIED:20240117T071542Z
UID:10000142-1715086800-1715094000@www.pyharanta.fi
SUMMARY:Vanhusneuvoston kokous
DESCRIPTION:Kunnanvirasto\, Lasikuja 6
URL:https://www.pyharanta.fi/event/vanhusneuvoston-kokous-2/
END:VEVENT
BEGIN:VEVENT
DTSTART;TZID=Europe/Helsinki:20240506T160000
DTEND;TZID=Europe/Helsinki:20240506T200000
DTSTAMP:20260420T042314
CREATED:20240429T063338Z
LAST-MODIFIED:20240429T063338Z
UID:10000156-1715011200-1715025600@www.pyharanta.fi
SUMMARY:Vakka-Opiston kevätnäyttely 2024
DESCRIPTION:
URL:https://www.pyharanta.fi/event/vakka-opiston-kevatnayttely-2024-2/
LOCATION:Nälkloukkan kyläkoti\, Kaukka\, Kaukanraitti 24\, 23950 Pyhäranta
END:VEVENT
BEGIN:VEVENT
DTSTART;TZID=Europe/Helsinki:20240505T110000
DTEND;TZID=Europe/Helsinki:20240505T150000
DTSTAMP:20260420T042314
CREATED:20240429T110839Z
LAST-MODIFIED:20240429T110839Z
UID:10000157-1714906800-1714921200@www.pyharanta.fi
SUMMARY:Kunnan oma HAASTEPYÖRÄILYPÄIVÄ SU 5.5. klo 11-15
DESCRIPTION:
URL:https://www.pyharanta.fi/event/kunnan-oma-haastepyorailypaiva-su-5-5-klo-11-15/
LOCATION:Nälkloukkan kyläkoti\, Kaukka\, Kaukanraitti 24\, 23950 Pyhäranta
END:VEVENT
BEGIN:VEVENT
DTSTART;TZID=Europe/Helsinki:20240505T110000
DTEND;TZID=Europe/Helsinki:20240505T150000
DTSTAMP:20260420T042314
CREATED:20240429T062950Z
LAST-MODIFIED:20240429T063521Z
UID:10000155-1714906800-1714921200@www.pyharanta.fi
SUMMARY:Vakka-Opiston kevätnäyttely 2024
DESCRIPTION:
URL:https://www.pyharanta.fi/event/vakka-opiston-kevatnayttely-2024/
LOCATION:Nälkloukkan kyläkoti\, Kaukka\, Kaukanraitti 24\, 23950 Pyhäranta
END:VEVENT
BEGIN:VEVENT
DTSTART;TZID=Europe/Helsinki:20240504T140000
DTEND;TZID=Europe/Helsinki:20240504T170000
DTSTAMP:20260420T042314
CREATED:20240425T111606Z
LAST-MODIFIED:20240425T111859Z
UID:10000154-1714831200-1714842000@www.pyharanta.fi
SUMMARY:MLL Pyhäranta; Lasten liikennetapahtuma
DESCRIPTION:Ihoden koulun pihapiirissä tapahtuu toukokuun alussa kun Pyhärannan MLL paikallisyhdistys kerää alueelle isoja koneita Lasten ihmeteltäväksi.\nMukana tapahtumassa Lasten Liikennekaupunki\, joka luo kentälle oikean liikenteen liikennevaloineen\, merkkeineen ja kulkuvälineineen.\nTapahtuma on maksuton ja liikennekaupunki suunnattu alle 12-vuotiaille.\nTapahtumassa buffetti\, arpajaiset ja lampaita hellittäväksi.Lähde mukaan!\n\n\nMLL Pyhäranta; Lasten liikennetapahtuma
URL:https://www.pyharanta.fi/event/mll-pyharanta-lasten-liikennetapahtuma/
LOCATION:Ihoden kylätie 27
END:VEVENT
BEGIN:VEVENT
DTSTART;TZID=Europe/Helsinki:20240503T190000
DTEND;TZID=Europe/Helsinki:20240503T210000
DTSTAMP:20260420T042314
CREATED:20240104T151643Z
LAST-MODIFIED:20240104T151643Z
UID:10000124-1714762800-1714770000@www.pyharanta.fi
SUMMARY:MLL Nuokkari
DESCRIPTION:Ihoden nuorisotila\, Ihoden kylätie 27 \nNuokkari tarkoitettu 6-luokkalaisille ja sitä vanhemmille nuorille.
URL:https://www.pyharanta.fi/event/mll-nuokkari-4/
END:VEVENT
BEGIN:VEVENT
DTSTART;TZID=Europe/Helsinki:20240425T180000
DTEND;TZID=Europe/Helsinki:20240425T200000
DTSTAMP:20260420T042314
CREATED:20240416T130026Z
LAST-MODIFIED:20240416T130026Z
UID:10000152-1714068000-1714075200@www.pyharanta.fi
SUMMARY:Teknisen lautakunnan kokous
DESCRIPTION:Paikka: Tuiskuranta
URL:https://www.pyharanta.fi/event/teknisen-lautakunnan-kokous/
END:VEVENT
BEGIN:VEVENT
DTSTART;TZID=Europe/Helsinki:20240425T180000
DTEND;TZID=Europe/Helsinki:20240425T200000
DTSTAMP:20260420T042314
CREATED:20240416T123502Z
LAST-MODIFIED:20240416T123502Z
UID:10000151-1714068000-1714075200@www.pyharanta.fi
SUMMARY:Laitila-Pyhäranta 4H-yhdistyksen kokous
DESCRIPTION:Tervetuloa Laitila-Pyhäranta 4H-yhdistyksen sääntömääräiseen kokoukseen \nAika: TO 25.4.2024 klo 18.00 \nPaikka: Vihtorinkatu 12\, 23800 LAITILA \n  \nTilaisuus aloitetaan kahvilla ja palkitsemisilla.
URL:https://www.pyharanta.fi/event/laitila-pyharanta-4h-yhdistyksen-kokous/
END:VEVENT
END:VCALENDAR