BEGIN:VCALENDAR
VERSION:2.0
PRODID:-//Pyhäranta - ECPv6.6.2//NONSGML v1.0//EN
CALSCALE:GREGORIAN
METHOD:PUBLISH
X-WR-CALNAME:Pyhäranta
X-ORIGINAL-URL:https://www.pyharanta.fi
X-WR-CALDESC:Events for Pyhäranta
REFRESH-INTERVAL;VALUE=DURATION:PT1H
X-Robots-Tag:noindex
X-PUBLISHED-TTL:PT1H
BEGIN:VTIMEZONE
TZID:Europe/Helsinki
BEGIN:DAYLIGHT
TZOFFSETFROM:+0200
TZOFFSETTO:+0300
TZNAME:EEST
DTSTART:20240331T010000
END:DAYLIGHT
BEGIN:STANDARD
TZOFFSETFROM:+0300
TZOFFSETTO:+0200
TZNAME:EET
DTSTART:20241027T010000
END:STANDARD
END:VTIMEZONE
BEGIN:VEVENT
DTSTART;TZID=Europe/Helsinki:20240425T180000
DTEND;TZID=Europe/Helsinki:20240425T200000
DTSTAMP:20260420T080137
CREATED:20240416T123502Z
LAST-MODIFIED:20240416T123502Z
UID:10000151-1714068000-1714075200@www.pyharanta.fi
SUMMARY:Laitila-Pyhäranta 4H-yhdistyksen kokous
DESCRIPTION:Tervetuloa Laitila-Pyhäranta 4H-yhdistyksen sääntömääräiseen kokoukseen \nAika: TO 25.4.2024 klo 18.00 \nPaikka: Vihtorinkatu 12\, 23800 LAITILA \n  \nTilaisuus aloitetaan kahvilla ja palkitsemisilla.
URL:https://www.pyharanta.fi/event/laitila-pyharanta-4h-yhdistyksen-kokous/
END:VEVENT
BEGIN:VEVENT
DTSTART;TZID=Europe/Helsinki:20240424T180000
DTEND;TZID=Europe/Helsinki:20240424T200000
DTSTAMP:20260420T080137
CREATED:20240411T083129Z
LAST-MODIFIED:20240411T083624Z
UID:10000150-1713981600-1713988800@www.pyharanta.fi
SUMMARY:Kuntalaisilta Ihodessa
DESCRIPTION:Tervetuloa kuntalaisiltaan Ihoden koululle keskiviikkona 24.4.2024 klo 18.00-20.00! \n  \nOsoite: Ihoden kylätie 27\, 27320 Ihode \nKeskustelemassa mukana kunnanjohtaja\, talous- ja hallintojohtaja\, rakennustarkastaja\, kunnanvaltuuston ja -hallituksen henkilöitä. \n  \nKysymyksiä otetaan vastaan etukäteen kirjallisina osoitteeseen kunta@www.pyharanta.fi\, käsiteltävinä mm. tilinpäätös ja talouskatsaus\, kunnan palvelut ja tilat Ihodessa\, kaavakatsaus. Ensimmäisen alustuksen aikana voi vielä tehdä uusia kysymyksiä.
URL:https://www.pyharanta.fi/event/kuntalaisilta-ihodessa/
END:VEVENT
BEGIN:VEVENT
DTSTART;TZID=Europe/Helsinki:20240424T160000
DTEND;TZID=Europe/Helsinki:20240424T180000
DTSTAMP:20260420T080137
CREATED:20240202T085655Z
LAST-MODIFIED:20240202T085655Z
UID:10000145-1713974400-1713981600@www.pyharanta.fi
SUMMARY:Tarkastuslautakunnan kokous
DESCRIPTION:Teams\, 24.4.2024 klo 16-18
URL:https://www.pyharanta.fi/event/tarkastuslautakunnan-kokous-3/
END:VEVENT
BEGIN:VEVENT
DTSTART;TZID=Europe/Helsinki:20240423T180000
DTEND;TZID=Europe/Helsinki:20240423T200000
DTSTAMP:20260420T080137
CREATED:20240104T150610Z
LAST-MODIFIED:20240104T150610Z
UID:10000115-1713895200-1713902400@www.pyharanta.fi
SUMMARY:Kunnanhallituksen kokous
DESCRIPTION:
URL:https://www.pyharanta.fi/event/kunnanhallituksen-kokous-22/
END:VEVENT
BEGIN:VEVENT
DTSTART;TZID=Europe/Helsinki:20240421T120000
DTEND;TZID=Europe/Helsinki:20240421T170000
DTSTAMP:20260420T080137
CREATED:20240417T063553Z
LAST-MODIFIED:20240417T063640Z
UID:10000153-1713700800-1713718800@www.pyharanta.fi
SUMMARY:Ihodenjoen lasku su 21.4.2024 klo 12.00 alkaen
DESCRIPTION:Reitti: Ropanjärvi – Kosteikko Valkamassa. Pituus noin 9 km\, josta alkumatka noin 5\,5 km on hyvin tasaista. Loppuosassa noin 3\,5 km on vauhdikkaampia laskuja. \nTämä on vapaamuotoinen ja vapaaehtoinen tapahtuma\, joten jokainen osallistuu melontaan omalla vastuullaan ja vastaa itse myös kanootin ja muiden tarvikkeiden kuljetuksesta\, eväistään ym. Varmista että vakuutuksesi ovat kunnossa. \nHUOM! Kelluntaliivi on pakollinen varuste ja kypärä suotava koskia laskettaessa. \nOta kaatumisen varalta myös kuivat vaatteet vedenpitävässä kassissa mukaan. \nLisätietoja: seppo.mannervesi (at) gmail.com\, puh: 0443259211 \nSamana päivänä voi tulla tutustumaan Valkaman kosteikolle ja nauttimaan vaikkapa kupin kahvia. Olemme paikalla klo 14-16. Kosteikko ja lintulava on toteutettu Kuormitus kuriin –hankkeessa. Tervetuloa tutustumaan kosteikolle\, joka vähentää Mannerveden kuormitusta ja lisää luonnon monimuotoisuutta.
URL:https://www.pyharanta.fi/event/ihodenjoen-lasku-su-21-4-2024-klo-12-00-alkaen/
END:VEVENT
BEGIN:VEVENT
DTSTART;TZID=Europe/Helsinki:20240418T120000
DTEND;TZID=Europe/Helsinki:20240418T143000
DTSTAMP:20260420T080137
CREATED:20240111T125627Z
LAST-MODIFIED:20240111T125627Z
UID:10000139-1713441600-1713450600@www.pyharanta.fi
SUMMARY:Kaukan kyläkoti; Ikäihmisten päivätoiminta
DESCRIPTION:Kunnanjohtaja Jukka Laihon keskustelutunti
URL:https://www.pyharanta.fi/event/kaukan-kylakoti-ikaihmisten-paivatoiminta-3/
END:VEVENT
BEGIN:VEVENT
DTSTART;TZID=Europe/Helsinki:20240416T180000
DTEND;TZID=Europe/Helsinki:20240416T200000
DTSTAMP:20260420T080137
CREATED:20240110T102730Z
LAST-MODIFIED:20240110T102730Z
UID:10000126-1713290400-1713297600@www.pyharanta.fi
SUMMARY:Kunnanvaltuuston kokous
DESCRIPTION:
URL:https://www.pyharanta.fi/event/kunnanvaltuuston-kokous-8/
END:VEVENT
BEGIN:VEVENT
DTSTART;TZID=Europe/Helsinki:20240410T180000
DTEND;TZID=Europe/Helsinki:20240410T200000
DTSTAMP:20260420T080137
CREATED:20240202T090524Z
LAST-MODIFIED:20240202T090524Z
UID:10000148-1712772000-1712779200@www.pyharanta.fi
SUMMARY:Sivistystoimen lautakunnan kokous
DESCRIPTION:10.4.2024 klo 18
URL:https://www.pyharanta.fi/event/sivistystoimen-lautakunnan-kokous-2/
END:VEVENT
BEGIN:VEVENT
DTSTART;TZID=Europe/Helsinki:20240409T180000
DTEND;TZID=Europe/Helsinki:20240409T200000
DTSTAMP:20260420T080137
CREATED:20240104T150535Z
LAST-MODIFIED:20240104T150535Z
UID:10000114-1712685600-1712692800@www.pyharanta.fi
SUMMARY:Kunnanhallituksen kokous
DESCRIPTION:
URL:https://www.pyharanta.fi/event/kunnanhallituksen-kokous-21/
END:VEVENT
BEGIN:VEVENT
DTSTART;TZID=Europe/Helsinki:20240405T190000
DTEND;TZID=Europe/Helsinki:20240405T210000
DTSTAMP:20260420T080137
CREATED:20240104T151601Z
LAST-MODIFIED:20240104T151601Z
UID:10000123-1712343600-1712350800@www.pyharanta.fi
SUMMARY:MLL Nuokkari
DESCRIPTION:Ihoden nuorisotila\, Ihoden kylätie 27 \nNuokkari tarkoitettu 6-luokkalaisille ja sitä vanhemmille nuorille.
URL:https://www.pyharanta.fi/event/mll-nuokkari-3/
END:VEVENT
BEGIN:VEVENT
DTSTART;TZID=Europe/Helsinki:20240326T180000
DTEND;TZID=Europe/Helsinki:20240326T200000
DTSTAMP:20260420T080137
CREATED:20240104T151042Z
LAST-MODIFIED:20240104T151042Z
UID:10000120-1711476000-1711483200@www.pyharanta.fi
SUMMARY:Kunnanhallituksen kokous
DESCRIPTION:
URL:https://www.pyharanta.fi/event/kunnanhallituksen-kokous-27/
END:VEVENT
BEGIN:VEVENT
DTSTART;TZID=Europe/Helsinki:20240326T160000
DTEND;TZID=Europe/Helsinki:20240326T180000
DTSTAMP:20260420T080137
CREATED:20240202T085523Z
LAST-MODIFIED:20240202T085904Z
UID:10000144-1711468800-1711476000@www.pyharanta.fi
SUMMARY:Tarkastuslautakunnan kokous
DESCRIPTION:Teams\, 26.3.2024 klo 16-18
URL:https://www.pyharanta.fi/event/tarkastuslautakunnan-kokous-2/
END:VEVENT
BEGIN:VEVENT
DTSTART;TZID=Europe/Helsinki:20240314T120000
DTEND;TZID=Europe/Helsinki:20240314T143000
DTSTAMP:20260420T080137
CREATED:20240111T125505Z
LAST-MODIFIED:20240112T072636Z
UID:10000138-1710417600-1710426600@www.pyharanta.fi
SUMMARY:Kaukan kyläkoti; Ikäihmisten päivätoiminta
DESCRIPTION:Suomen rauhanturvaamistyö Seppo Punna
URL:https://www.pyharanta.fi/event/kaukan-kylakoti-ikaihmisten-paivatoiminta-2/
END:VEVENT
BEGIN:VEVENT
DTSTART;TZID=Europe/Helsinki:20240313T180000
DTEND;TZID=Europe/Helsinki:20240313T200000
DTSTAMP:20260420T080137
CREATED:20240202T090303Z
LAST-MODIFIED:20240202T090303Z
UID:10000147-1710352800-1710360000@www.pyharanta.fi
SUMMARY:Sivistystoimen lautakunnan kokous
DESCRIPTION:13.3.2024 klo 18
URL:https://www.pyharanta.fi/event/sivistystoimen-lautakunnan-kokous/
END:VEVENT
BEGIN:VEVENT
DTSTART;TZID=Europe/Helsinki:20240312T180000
DTEND;TZID=Europe/Helsinki:20240312T200000
DTSTAMP:20260420T080137
CREATED:20240104T150433Z
LAST-MODIFIED:20240104T150433Z
UID:10000113-1710266400-1710273600@www.pyharanta.fi
SUMMARY:Kunnanhallituksen kokous
DESCRIPTION:
URL:https://www.pyharanta.fi/event/kunnanhallituksen-kokous-20/
END:VEVENT
BEGIN:VEVENT
DTSTART;TZID=Europe/Helsinki:20240307T130000
DTEND;TZID=Europe/Helsinki:20240307T150000
DTSTAMP:20260420T080137
CREATED:20240117T071426Z
LAST-MODIFIED:20240117T071426Z
UID:10000141-1709816400-1709823600@www.pyharanta.fi
SUMMARY:Vanhusneuvoston kokous
DESCRIPTION:Kunnanvirasto\, Lasikuja 6
URL:https://www.pyharanta.fi/event/vanhusneuvoston-kokous/
END:VEVENT
BEGIN:VEVENT
DTSTART;TZID=Europe/Helsinki:20240301T190000
DTEND;TZID=Europe/Helsinki:20240301T210000
DTSTAMP:20260420T080137
CREATED:20240104T151513Z
LAST-MODIFIED:20240104T151513Z
UID:10000122-1709319600-1709326800@www.pyharanta.fi
SUMMARY:MLL Nuokkari
DESCRIPTION:Ihoden nuorisotila\, Ihoden kylätie 27 \nNuokkari tarkoitettu 6-luokkalaisille ja sitä vanhemmille nuorille.
URL:https://www.pyharanta.fi/event/mll-nuokkari-2/
END:VEVENT
BEGIN:VEVENT
DTSTART;TZID=Europe/Helsinki:20240227T180000
DTEND;TZID=Europe/Helsinki:20240227T200000
DTSTAMP:20260420T080137
CREATED:20240110T102700Z
LAST-MODIFIED:20240110T102700Z
UID:10000125-1709056800-1709064000@www.pyharanta.fi
SUMMARY:Kunnanvaltuuston kokous
DESCRIPTION:
URL:https://www.pyharanta.fi/event/kunnanvaltuuston-kokous-7/
END:VEVENT
BEGIN:VEVENT
DTSTART;TZID=Europe/Helsinki:20240226T180000
DTEND;TZID=Europe/Helsinki:20240226T200000
DTSTAMP:20260420T080137
CREATED:20240104T150341Z
LAST-MODIFIED:20240110T083854Z
UID:10000112-1708970400-1708977600@www.pyharanta.fi
SUMMARY:Kunnanhallituksen kokous
DESCRIPTION:
URL:https://www.pyharanta.fi/event/kunnanhallituksen-kokous-19/
END:VEVENT
BEGIN:VEVENT
DTSTART;TZID=Europe/Helsinki:20240213T180000
DTEND;TZID=Europe/Helsinki:20240213T200000
DTSTAMP:20260420T080137
CREATED:20240104T150250Z
LAST-MODIFIED:20240104T150250Z
UID:10000111-1707847200-1707854400@www.pyharanta.fi
SUMMARY:Kunnanhallituksen kokous
DESCRIPTION:
URL:https://www.pyharanta.fi/event/kunnanhallituksen-kokous-18/
END:VEVENT
BEGIN:VEVENT
DTSTART;TZID=Europe/Helsinki:20240208T120000
DTEND;TZID=Europe/Helsinki:20240208T143000
DTSTAMP:20260420T080137
CREATED:20240111T125344Z
LAST-MODIFIED:20240111T125344Z
UID:10000137-1707393600-1707402600@www.pyharanta.fi
SUMMARY:Kaukan kyläkoti; Ikäihmisten päivätoiminta
DESCRIPTION:Ohjelmassa hyvänmielen virkistyshetki\, toteuttajana Ilonhetki Roosa Saine
URL:https://www.pyharanta.fi/event/kaukan-kylakoti-ikaihmisten-paivatoiminta/
END:VEVENT
BEGIN:VEVENT
DTSTART;TZID=Europe/Helsinki:20240206T160000
DTEND;TZID=Europe/Helsinki:20240206T180000
DTSTAMP:20260420T080137
CREATED:20240202T085417Z
LAST-MODIFIED:20240202T085417Z
UID:10000143-1707235200-1707242400@www.pyharanta.fi
SUMMARY:Tarkastuslautakunnan kokous
DESCRIPTION:Teams\, 6.2.2024 klo 16-18
URL:https://www.pyharanta.fi/event/tarkastuslautakunnan-kokous/
END:VEVENT
BEGIN:VEVENT
DTSTART;TZID=Europe/Helsinki:20240130T180000
DTEND;TZID=Europe/Helsinki:20240130T200000
DTSTAMP:20260420T080137
CREATED:20240104T150152Z
LAST-MODIFIED:20240104T150152Z
UID:10000110-1706637600-1706644800@www.pyharanta.fi
SUMMARY:Kunnanhallituksen kokous
DESCRIPTION:
URL:https://www.pyharanta.fi/event/kunnanhallituksen-kokous-17/
END:VEVENT
BEGIN:VEVENT
DTSTART;TZID=Europe/Helsinki:20240128T090000
DTEND;TZID=Europe/Helsinki:20240128T200000
DTSTAMP:20260420T080137
CREATED:20240110T103725Z
LAST-MODIFIED:20240110T104734Z
UID:10000135-1706432400-1706472000@www.pyharanta.fi
SUMMARY:Presidentinvaalipäivä
DESCRIPTION:Äänestyspaikat: \nIhoden koulu\, Ihoden kylätie 27\, 27320 Ihode \nReilan koulu\, Eemelintie 6\, 27340 Reila \nRohdaisten koulu\, Rantatie 5\, 23950 Pyhäranta \n  \nVarsinaisena vaalipäivänä äänioikeutettu saa äänestää vain siinä äänestyspaikassa\, joka on merkitty äänioikeusrekisteriin ja äänioikeutetulle ennen vaaleja postitettuun ilmoituskorttiin. Äänestäjien on varauduttava todistamaan henkilöllisyytensä äänestyspaikoilla.
URL:https://www.pyharanta.fi/event/presidentinvaalipaiva/
END:VEVENT
BEGIN:VEVENT
DTSTART;TZID=Europe/Helsinki:20240126T190000
DTEND;TZID=Europe/Helsinki:20240126T210000
DTSTAMP:20260420T080137
CREATED:20240104T151419Z
LAST-MODIFIED:20240104T151419Z
UID:10000121-1706295600-1706302800@www.pyharanta.fi
SUMMARY:MLL Nuokkari
DESCRIPTION:Ihoden nuorisotila\, Ihoden kylätie 27 \nNuokkari tarkoitettu 6-luokkalaisille ja sitä vanhemmille nuorille.
URL:https://www.pyharanta.fi/event/mll-nuokkari/
END:VEVENT
BEGIN:VEVENT
DTSTART;TZID=Europe/Helsinki:20240123T090000
DTEND;TZID=Europe/Helsinki:20240123T190000
DTSTAMP:20260420T080137
CREATED:20240110T103402Z
LAST-MODIFIED:20240110T103402Z
UID:10000134-1706000400-1706036400@www.pyharanta.fi
SUMMARY:Presidentinvaalien ennakkoäänestys
DESCRIPTION:Rohdaisten nuorisotila \nEnolankuja 2\, 23950 Pyhäranta
URL:https://www.pyharanta.fi/event/presidentinvaalien-ennakkoaanestys-7/
END:VEVENT
BEGIN:VEVENT
DTSTART;TZID=Europe/Helsinki:20240122T090000
DTEND;TZID=Europe/Helsinki:20240122T150000
DTSTAMP:20260420T080137
CREATED:20240110T103336Z
LAST-MODIFIED:20240110T103336Z
UID:10000133-1705914000-1705935600@www.pyharanta.fi
SUMMARY:Presidentinvaalien ennakkoäänestys
DESCRIPTION:Rohdaisten nuorisotila \nEnolankuja 2\, 23950 Pyhäranta
URL:https://www.pyharanta.fi/event/presidentinvaalien-ennakkoaanestys-6/
END:VEVENT
BEGIN:VEVENT
DTSTART;TZID=Europe/Helsinki:20240121T100000
DTEND;TZID=Europe/Helsinki:20240121T140000
DTSTAMP:20260420T080137
CREATED:20240110T103305Z
LAST-MODIFIED:20240110T103305Z
UID:10000132-1705831200-1705845600@www.pyharanta.fi
SUMMARY:Presidentinvaalien ennakkoäänestys
DESCRIPTION:Rohdaisten nuorisotila \nEnolankuja 2\, 23950 Pyhäranta
URL:https://www.pyharanta.fi/event/presidentinvaalien-ennakkoaanestys-5/
END:VEVENT
BEGIN:VEVENT
DTSTART;TZID=Europe/Helsinki:20240120T100000
DTEND;TZID=Europe/Helsinki:20240120T140000
DTSTAMP:20260420T080137
CREATED:20240110T103239Z
LAST-MODIFIED:20240110T103239Z
UID:10000131-1705744800-1705759200@www.pyharanta.fi
SUMMARY:Presidentinvaalien ennakkoäänestys
DESCRIPTION:Rohdaisten nuorisotila \nEnolankuja 2\, 23950 Pyhäranta
URL:https://www.pyharanta.fi/event/presidentinvaalien-ennakkoaanestys-4/
END:VEVENT
BEGIN:VEVENT
DTSTART;TZID=Europe/Helsinki:20240119T090000
DTEND;TZID=Europe/Helsinki:20240119T150000
DTSTAMP:20260420T080137
CREATED:20240110T103211Z
LAST-MODIFIED:20240110T103211Z
UID:10000130-1705654800-1705676400@www.pyharanta.fi
SUMMARY:Presidentinvaalien ennakkoäänestys
DESCRIPTION:Rohdaisten nuorisotila \nEnolankuja 2\, 23950 Pyhäranta
URL:https://www.pyharanta.fi/event/presidentinvaalien-ennakkoaanestys-3/
END:VEVENT
END:VCALENDAR