BEGIN:VCALENDAR
VERSION:2.0
PRODID:-//Pyhäranta - ECPv6.6.2//NONSGML v1.0//EN
CALSCALE:GREGORIAN
METHOD:PUBLISH
X-WR-CALNAME:Pyhäranta
X-ORIGINAL-URL:https://www.pyharanta.fi
X-WR-CALDESC:Events for Pyhäranta
REFRESH-INTERVAL;VALUE=DURATION:PT1H
X-Robots-Tag:noindex
X-PUBLISHED-TTL:PT1H
BEGIN:VTIMEZONE
TZID:Europe/Helsinki
BEGIN:DAYLIGHT
TZOFFSETFROM:+0200
TZOFFSETTO:+0300
TZNAME:EEST
DTSTART:20220327T010000
END:DAYLIGHT
BEGIN:STANDARD
TZOFFSETFROM:+0300
TZOFFSETTO:+0200
TZNAME:EET
DTSTART:20221030T010000
END:STANDARD
BEGIN:DAYLIGHT
TZOFFSETFROM:+0200
TZOFFSETTO:+0300
TZNAME:EEST
DTSTART:20230326T010000
END:DAYLIGHT
BEGIN:STANDARD
TZOFFSETFROM:+0300
TZOFFSETTO:+0200
TZNAME:EET
DTSTART:20231029T010000
END:STANDARD
END:VTIMEZONE
BEGIN:VEVENT
DTSTART;TZID=Europe/Helsinki:20231026T180000
DTEND;TZID=Europe/Helsinki:20231026T200000
DTSTAMP:20260421T091008
CREATED:20231011T112218Z
LAST-MODIFIED:20231011T112218Z
UID:10000104-1698343200-1698350400@www.pyharanta.fi
SUMMARY:MLL Pyhäranta ja Pyhärannan kulttuuritoimi: Elokuvailta
DESCRIPTION:MLL Pyhärannan ja Pyhärannan kulttuuritoimen yhteistoteutuksena Ryhmä Hau Mahtielokuva -jäsennäytös Laitilan Kinossa. \nSitovat ilmoittautumiset 23.10.2023 mennessä pyharannanmll@gmail.com. Jäsenille ilmainen\, muille 10 €.
URL:https://www.pyharanta.fi/event/mll-pyharanta-ja-pyharannan-kulttuuritoimi-elokuvailta/
END:VEVENT
BEGIN:VEVENT
DTSTART;TZID=Europe/Helsinki:20231023T180000
DTEND;TZID=Europe/Helsinki:20231023T200000
DTSTAMP:20260421T091008
CREATED:20231017T085028Z
LAST-MODIFIED:20231017T085049Z
UID:10000108-1698084000-1698091200@www.pyharanta.fi
SUMMARY:Kunnanhallituksen kokous
DESCRIPTION:
URL:https://www.pyharanta.fi/event/kunnanhallituksen-kokous-23-10-2023/
END:VEVENT
BEGIN:VEVENT
DTSTART;TZID=Europe/Helsinki:20231023T180000
DTEND;TZID=Europe/Helsinki:20231023T193000
DTSTAMP:20260421T091008
CREATED:20231011T111820Z
LAST-MODIFIED:20231011T111820Z
UID:10000103-1698084000-1698089400@www.pyharanta.fi
SUMMARY:MLL Pyhäranta: Keilausta
DESCRIPTION:Syyslomaviikolla Pyhärannan kunnan koululaisille ilmainen keilausilta Rauman keilahallilla. \nSitovat ilmoittautumiset 19.10.2023 mennessä pyharannanmll@gmail.com. \n 
URL:https://www.pyharanta.fi/event/mll-pyharanta-keilausta/
END:VEVENT
BEGIN:VEVENT
DTSTART;TZID=Europe/Helsinki:20231019T180000
DTEND;TZID=Europe/Helsinki:20231019T210000
DTSTAMP:20260421T091008
CREATED:20230926T070420Z
LAST-MODIFIED:20230926T074254Z
UID:10000027-1697738400-1697749200@www.pyharanta.fi
SUMMARY:Kunnanvaltuuston kokous
DESCRIPTION:Kunnanvaltuuston kokous Ihoden koululla
URL:https://www.pyharanta.fi/event/valtuuston-kokous-2/
END:VEVENT
BEGIN:VEVENT
DTSTART;TZID=Europe/Helsinki:20231013T180000
DTEND;TZID=Europe/Helsinki:20231013T200000
DTSTAMP:20260421T091008
CREATED:20231011T105546Z
LAST-MODIFIED:20231011T105546Z
UID:10000101-1697220000-1697227200@www.pyharanta.fi
SUMMARY:Iltasoitto Ihodessa
DESCRIPTION:Esiintymässä Vakka-Suomen Musiikkiopiston Elvira Kaavin ja Marja-Liisa Santalan oppilaita \nKonserttipaikka: \nRuokasali\, Ihoden koulu\, Ihoden kylätie 27\, 27320 Ihode
URL:https://www.pyharanta.fi/event/iltasoitto-ihodessa/
END:VEVENT
BEGIN:VEVENT
DTSTART;TZID=Europe/Helsinki:20231010T180000
DTEND;TZID=Europe/Helsinki:20231010T200000
DTSTAMP:20260421T091008
CREATED:20230814T102323Z
LAST-MODIFIED:20230814T102323Z
UID:10000021-1696960800-1696968000@www.pyharanta.fi
SUMMARY:Kunnanhallituksen kokous
DESCRIPTION:
URL:https://www.pyharanta.fi/event/kunnanhallituksen-kokous-12/
END:VEVENT
BEGIN:VEVENT
DTSTART;TZID=Europe/Helsinki:20231006T110000
DTEND;TZID=Europe/Helsinki:20231006T143000
DTSTAMP:20260421T091008
CREATED:20230921T124327Z
LAST-MODIFIED:20230921T124431Z
UID:10000024-1696590000-1696602600@www.pyharanta.fi
SUMMARY:IKÄIHMISTEN JUHLA
DESCRIPTION:Valtakunnallisella vanhusten viikolla \nIKÄIHMISTEN JUHLA \nPyhärannan Seurakuntakodilla \nperjantaina 6.10.2023 \nOHJELMA:\n❖ klo 11.00 ”Hyvänmielen toivelaulukonsertti” laulaja Rami Rafael & musiikinopettaja Päivi Kurkilahti.\n❖ klo 12.00 ruokailu – Pyhärannan Martat\n❖ klo 13.00 uuden kunnanjohtaja Jukka Laihon tervehdys\n❖ musiikkia ja yhteislauluja vt. kirkkoherra Heikki Rainio\n❖ loppuhartaus Heikki Rainio\n❖ kahvit \nTilaisuuden juontaa Mirja Kauppila-Laine.\nIlmoittautuminen diakonissa Tiina Mäkiselle\, puh. 0440 684 913 viimeistään ma 2.10.2023\nTilaisuus on osallistujille ilmainen. \nJärjestäjänä Pyhärannan vanhusneuvosto
URL:https://www.pyharanta.fi/event/ikaihmisten-juhla/
LOCATION:pyhärannan seurakuntakoti\, Kirkkopolku 9\, Pyhäranta\, Pyhäranta\, 23950\, Suomi
END:VEVENT
BEGIN:VEVENT
DTSTART;TZID=Europe/Helsinki:20230926T180000
DTEND;TZID=Europe/Helsinki:20230926T210000
DTSTAMP:20260421T091008
CREATED:20230926T070339Z
LAST-MODIFIED:20230926T074311Z
UID:10000026-1695751200-1695762000@www.pyharanta.fi
SUMMARY:Kunnanvaltuuston kokous
DESCRIPTION:Kunnanvaltuuston kokous Ihoden koululla
URL:https://www.pyharanta.fi/event/valtuuston-kokous/
END:VEVENT
BEGIN:VEVENT
DTSTART;TZID=Europe/Helsinki:20230919T180000
DTEND;TZID=Europe/Helsinki:20230919T200000
DTSTAMP:20260421T091008
CREATED:20230814T102213Z
LAST-MODIFIED:20230814T102213Z
UID:10000100-1695146400-1695153600@www.pyharanta.fi
SUMMARY:Kunnahallituksen kokous
DESCRIPTION:
URL:https://www.pyharanta.fi/event/kunnahallituksen-kokous/
END:VEVENT
BEGIN:VEVENT
DTSTART;TZID=Europe/Helsinki:20230829T180000
DTEND;TZID=Europe/Helsinki:20230829T200000
DTSTAMP:20260421T091008
CREATED:20230814T102112Z
LAST-MODIFIED:20230814T102112Z
UID:10000099-1693332000-1693339200@www.pyharanta.fi
SUMMARY:Kunnanhallituksen kokous
DESCRIPTION:
URL:https://www.pyharanta.fi/event/kunnanhallituksen-kokous-10/
END:VEVENT
BEGIN:VEVENT
DTSTART;TZID=Europe/Helsinki:20230620T180000
DTEND;TZID=Europe/Helsinki:20230620T200000
DTSTAMP:20260421T091008
CREATED:20230118T091236Z
LAST-MODIFIED:20230118T091236Z
UID:10000016-1687284000-1687291200@www.pyharanta.fi
SUMMARY:Kunnanhallituksen kokous
DESCRIPTION:
URL:https://www.pyharanta.fi/event/kunnanhallituksen-kokous-11/
END:VEVENT
BEGIN:VEVENT
DTSTART;TZID=Europe/Helsinki:20230615T180000
DTEND;TZID=Europe/Helsinki:20230615T200000
DTSTAMP:20260421T091008
CREATED:20230118T093817Z
LAST-MODIFIED:20230607T073506Z
UID:10000018-1686852000-1686859200@www.pyharanta.fi
SUMMARY:Kunnanvaltuuston kokous
DESCRIPTION:
URL:https://www.pyharanta.fi/event/kunnanvaltuuston-kokous-4/
END:VEVENT
BEGIN:VEVENT
DTSTART;TZID=Europe/Helsinki:20230530T180000
DTEND;TZID=Europe/Helsinki:20230530T200000
DTSTAMP:20260421T091008
CREATED:20230523T064131Z
LAST-MODIFIED:20230523T064131Z
UID:10000098-1685469600-1685476800@www.pyharanta.fi
SUMMARY:Kunnanhallituksen kokous 30.5.2023
DESCRIPTION:Kokous pidetään kunnanvirastolla alkaen 18-
URL:https://www.pyharanta.fi/event/kunnanhallituksen-kokous-30-5-2023/
END:VEVENT
BEGIN:VEVENT
DTSTART;TZID=Europe/Helsinki:20230517T143000
DTEND;TZID=Europe/Helsinki:20230517T170000
DTSTAMP:20260421T091008
CREATED:20230509T152050Z
LAST-MODIFIED:20230509T152050Z
UID:10000097-1684333800-1684342800@www.pyharanta.fi
SUMMARY:Avoimet ovet kuntalaisille Ihoden päiväkodilla
DESCRIPTION:Tutustuminen uuteen Ihoden päiväkotiin.
URL:https://www.pyharanta.fi/event/avoimet-ovet-kuntalaisille-ihoden-paivakodilla/
END:VEVENT
BEGIN:VEVENT
DTSTART;TZID=Europe/Helsinki:20230511T120000
DTEND;TZID=Europe/Helsinki:20230511T143000
DTSTAMP:20260421T091008
CREATED:20230404T085442Z
LAST-MODIFIED:20230404T085442Z
UID:10000094-1683806400-1683815400@www.pyharanta.fi
SUMMARY:Ikäihmisten päivätoiminta (65v+) Kaukan kyläkodilla
DESCRIPTION:Toimintapäivä Kaukan kyläkodilla (os. Kaukanraitti 24) torstaina 11.5. klo 12.00-14.30.\nvirittäydytään kesään musiikkiteemalla. Musiikin iloa kanssamme jakavat koululaiset ja muiikin opettaja Päivi Karkulahti\, Musiikkitupa.\nVirkistävää yhdessäoloa nauttien maukkaan ruuasta. Osallistumismaksu 5 €/hlö laskutetaan jälkikäteen.\nMaksu sisältää ohjelman ja ruokailun. Kuljetusta ei järjestetä erikseen\, kysy tarvittaessa\nkyytiä kaverilta tai vapaaehtoistoimijoilta.
URL:https://www.pyharanta.fi/event/ikaihmisten-paivatoiminta-65v-kaukan-kylakodilla/
END:VEVENT
BEGIN:VEVENT
DTSTART;TZID=Europe/Helsinki:20230504T180000
DTEND;TZID=Europe/Helsinki:20230504T200000
DTSTAMP:20260421T091008
CREATED:20230425T104639Z
LAST-MODIFIED:20230425T104639Z
UID:10000095-1683223200-1683230400@www.pyharanta.fi
SUMMARY:Kunnanvaltuuston kokous
DESCRIPTION:
URL:https://www.pyharanta.fi/event/kunnanvaltuuston-kokous-5/
END:VEVENT
BEGIN:VEVENT
DTSTART;TZID=Europe/Helsinki:20230503T180000
DTEND;TZID=Europe/Helsinki:20230503T200000
DTSTAMP:20260421T091008
CREATED:20230427T071342Z
LAST-MODIFIED:20230427T071342Z
UID:10000096-1683136800-1683144000@www.pyharanta.fi
SUMMARY:Kunnanhallituksen kokous
DESCRIPTION:
URL:https://www.pyharanta.fi/event/kunnanhallituksen-kokous-9/
END:VEVENT
BEGIN:VEVENT
DTSTART;TZID=Europe/Helsinki:20230425T180000
DTEND;TZID=Europe/Helsinki:20230425T200000
DTSTAMP:20260421T091008
CREATED:20230118T093736Z
LAST-MODIFIED:20230404T090048Z
UID:10000017-1682445600-1682452800@www.pyharanta.fi
SUMMARY:Kunnanhallituksen kokous
DESCRIPTION:
URL:https://www.pyharanta.fi/event/kunnanvaltuuston-kokous-3/
END:VEVENT
BEGIN:VEVENT
DTSTART;TZID=Europe/Helsinki:20230413T120000
DTEND;TZID=Europe/Helsinki:20230413T143000
DTSTAMP:20260421T091008
CREATED:20230404T083729Z
LAST-MODIFIED:20230404T083729Z
UID:10000093-1681387200-1681396200@www.pyharanta.fi
SUMMARY:Ikäihmisten (65v+) päivätoiminta Kaukan kyläkodilla
DESCRIPTION:Toimintapäivä Kaukan kyläkodilla (os. Kaukanraitti 24) torstaina 13.4. klo 12.00-14.30.\nAiheena ikäihmisten sosiaalitoimen palvelut kunnassamme\, sosiaaliohjaaja Hanna Piironen.\nVirkistävää yhdessäoloa nauttien maukkaan ruuasta. Osallistumismaksu 5 €/hlö laskutetaan jälkikäteen.\nMaksu sisältää ohjelman ja ruokailun. Kuljetusta ei järjestetä erikseen\, kysy tarvittaessa\nkyytiä kaverilta tai vapaaehtoistoimijoilta.
URL:https://www.pyharanta.fi/event/ikaihmisten-65v-paivatoiminta-kaukan-kylakodilla/
END:VEVENT
BEGIN:VEVENT
DTSTART;TZID=Europe/Helsinki:20230405T180000
DTEND;TZID=Europe/Helsinki:20230405T200000
DTSTAMP:20260421T091008
CREATED:20230404T083543Z
LAST-MODIFIED:20230404T083543Z
UID:10000092-1680717600-1680724800@www.pyharanta.fi
SUMMARY:Keskustelutilaisuus Rohdaisten koulualueen asukkaille
DESCRIPTION:
URL:https://www.pyharanta.fi/event/keskustelutilaisuus-rohdaisten-koulualueen-asukkaille/
END:VEVENT
BEGIN:VEVENT
DTSTART;TZID=Europe/Helsinki:20230321T180000
DTEND;TZID=Europe/Helsinki:20230321T200000
DTSTAMP:20260421T091008
CREATED:20230118T090658Z
LAST-MODIFIED:20230118T090658Z
UID:10000015-1679421600-1679428800@www.pyharanta.fi
SUMMARY:Kunnanhallituksen kokous
DESCRIPTION:
URL:https://www.pyharanta.fi/event/kunnanhallituksen-kokous-8/
END:VEVENT
BEGIN:VEVENT
DTSTART;TZID=Europe/Helsinki:20230302T180000
DTEND;TZID=Europe/Helsinki:20230302T200000
DTSTAMP:20260421T091008
CREATED:20230223T141532Z
LAST-MODIFIED:20230223T141532Z
UID:10000020-1677780000-1677787200@www.pyharanta.fi
SUMMARY:Kunnanvaltuuston kokous
DESCRIPTION:
URL:https://www.pyharanta.fi/event/kunnanvaltuuston-kokous-2/
END:VEVENT
BEGIN:VEVENT
DTSTART;TZID=Europe/Helsinki:20230302T120000
DTEND;TZID=Europe/Helsinki:20230302T143000
DTSTAMP:20260421T091008
CREATED:20230224T102656Z
LAST-MODIFIED:20230224T102656Z
UID:10000091-1677758400-1677767400@www.pyharanta.fi
SUMMARY:Pyhärantalaisten ikäihmisten (65v+) päivätoiminta
DESCRIPTION:Toimintapäivä Kaukan kyläkodilla\, (os. Kaukanraitti 24). \nTorstaina 2.3.2023 klo: 12-14.30. Ohjemassa asiantuntija Markku Laine: Unohtuiko liikennesäännöt ja osaatko niitä noudattaa?  \nVirkistävää yhdessäoloa nauttien maukkaasta ruuasta. \nOsallistumismaksu 5 €/hlö laskutetaan jälkikäteen. Et siis tarvitse tätä varten käteistä mukaan. Maksu sisältää ohjelman ja ruokailun.\nKuljetuspalvelua paikalle ei järjestetä erikseen\, kysy tarvittaessa kyytiä kaverilta tai vapaaehtoistoimijoilta.
URL:https://www.pyharanta.fi/event/pyharantalaisten-ikaihmisten-65v-paivatoiminta/
END:VEVENT
BEGIN:VEVENT
DTSTART;TZID=Europe/Helsinki:20230221T180000
DTEND;TZID=Europe/Helsinki:20230221T200000
DTSTAMP:20260421T091008
CREATED:20230118T090609Z
LAST-MODIFIED:20230118T090609Z
UID:10000014-1677002400-1677009600@www.pyharanta.fi
SUMMARY:Kunnanhallituksen kokous
DESCRIPTION:
URL:https://www.pyharanta.fi/event/kunnanhallituksen-kokous-7/
END:VEVENT
BEGIN:VEVENT
DTSTART;TZID=Europe/Helsinki:20230214T090000
DTEND;TZID=Europe/Helsinki:20230214T150000
DTSTAMP:20260421T091008
CREATED:20230118T094656Z
LAST-MODIFIED:20230118T094656Z
UID:10000019-1676365200-1676386800@www.pyharanta.fi
SUMMARY:Avoimet ovet kunnanvirastolla
DESCRIPTION:Avoimet ovet -tapahtuma kunnanvirastolla osoitteessa Lasikuja 6\, 27320 Ihode
URL:https://www.pyharanta.fi/event/avoimet-ovet-kunnanvirastolla/
END:VEVENT
BEGIN:VEVENT
DTSTART;TZID=Europe/Helsinki:20230131T180000
DTEND;TZID=Europe/Helsinki:20230131T200000
DTSTAMP:20260421T091008
CREATED:20230118T090449Z
LAST-MODIFIED:20230118T090449Z
UID:10000013-1675188000-1675195200@www.pyharanta.fi
SUMMARY:Kunnanhallituksen kokous
DESCRIPTION:
URL:https://www.pyharanta.fi/event/kunnanhallituksen-kokous-6/
END:VEVENT
BEGIN:VEVENT
DTSTART;TZID=Europe/Helsinki:20221220T180000
DTEND;TZID=Europe/Helsinki:20221220T200000
DTSTAMP:20260421T091008
CREATED:20221202T092527Z
LAST-MODIFIED:20221202T092527Z
UID:10000012-1671559200-1671566400@www.pyharanta.fi
SUMMARY:Kunnanvaltuuston kokous
DESCRIPTION:
URL:https://www.pyharanta.fi/event/kunnanvaltuuston-kokous/
END:VEVENT
BEGIN:VEVENT
DTSTART;TZID=Europe/Helsinki:20221207T180000
DTEND;TZID=Europe/Helsinki:20221207T200000
DTSTAMP:20260421T091008
CREATED:20220623T105001Z
LAST-MODIFIED:20220628T115006Z
UID:10000009-1670436000-1670443200@www.pyharanta.fi
SUMMARY:Kunnanhallituksen kokous
DESCRIPTION:
URL:https://www.pyharanta.fi/event/kunnanhallituksen-kokous-5/
END:VEVENT
BEGIN:VEVENT
DTSTART;TZID=Europe/Helsinki:20221205T180000
DTEND;TZID=Europe/Helsinki:20221205T200000
DTSTAMP:20260421T091008
CREATED:20221117T131735Z
LAST-MODIFIED:20221117T131735Z
UID:10000011-1670263200-1670270400@www.pyharanta.fi
SUMMARY:Avoin keskustelutilaisuus Reilan koulualueen asukkaille
DESCRIPTION:Pyhärannan kunta järjestää avoimen keskustelutilaisuuden Reilan koulussa.
URL:https://www.pyharanta.fi/event/avoin-keskustelutilaisuus-reilan-koulualueen-asukkaille/
CATEGORIES:Yleiset
END:VEVENT
BEGIN:VEVENT
DTSTART;TZID=Europe/Helsinki:20221201T120000
DTEND;TZID=Europe/Helsinki:20221201T143000
DTSTAMP:20260421T091008
CREATED:20220905T102310Z
LAST-MODIFIED:20220905T102310Z
UID:10000089-1669896000-1669905000@www.pyharanta.fi
SUMMARY:Ikäihmisten päivätoiminta\, Kaukan kyläkoti
DESCRIPTION:1.12. klo12-14.30 PIKKUJOULUT – jouluateria\nOsallistumismaksu 10€/hlö laskutetaan jälkikäteen. Et siis tarvitse tätä varten käteistä mukaan. Maksu sisältää ohjelman ja ruokailun. Kuljetuspalvelua paikalle ei järjestetä erikseen\, kysy tarvittaessa kyytiä kaverilta tai vapaaehtoistoimijoilta. Päivätoimintaa järjestävät kunnassa yhteistyössä Nälkkloukkan Kyläyhdistys ry.\, Vanhusneuvosto (koostuu eri järjestöjen toimijoista)\, SRK ja Pyhärannan sosiaalitoimi.\nLisätiedot: Hanna Piironen p. 044 738 34 21
URL:https://www.pyharanta.fi/event/ikaihmisten-paivatoiminta-kaukan-kylakoti-2/
END:VEVENT
END:VCALENDAR