BEGIN:VCALENDAR
VERSION:2.0
PRODID:-//Pyhäranta - ECPv6.6.2//NONSGML v1.0//EN
CALSCALE:GREGORIAN
METHOD:PUBLISH
X-WR-CALNAME:Pyhäranta
X-ORIGINAL-URL:https://www.pyharanta.fi
X-WR-CALDESC:Events for Pyhäranta
REFRESH-INTERVAL;VALUE=DURATION:PT1H
X-Robots-Tag:noindex
X-PUBLISHED-TTL:PT1H
BEGIN:VTIMEZONE
TZID:Europe/Helsinki
BEGIN:DAYLIGHT
TZOFFSETFROM:+0200
TZOFFSETTO:+0300
TZNAME:EEST
DTSTART:20220327T010000
END:DAYLIGHT
BEGIN:STANDARD
TZOFFSETFROM:+0300
TZOFFSETTO:+0200
TZNAME:EET
DTSTART:20221030T010000
END:STANDARD
END:VTIMEZONE
BEGIN:VEVENT
DTSTART;TZID=Europe/Helsinki:20220914T180000
DTEND;TZID=Europe/Helsinki:20220914T200000
DTSTAMP:20260421T064120
CREATED:20220628T082116Z
LAST-MODIFIED:20220628T082818Z
UID:10000010-1663178400-1663185600@www.pyharanta.fi
SUMMARY:Sivistystoimen lautakunnan kokous
DESCRIPTION:
URL:https://www.pyharanta.fi/event/sivistystoimen-lautakunta-2/
END:VEVENT
BEGIN:VEVENT
DTSTART;TZID=Europe/Helsinki:20220908T120000
DTEND;TZID=Europe/Helsinki:20220908T143000
DTSTAMP:20260421T064120
CREATED:20220905T082404Z
LAST-MODIFIED:20220905T082501Z
UID:10000087-1662638400-1662647400@www.pyharanta.fi
SUMMARY:Ikäihmisten päivätoiminta\, Kaukan Kyläkoti
DESCRIPTION:Kaukan Kyläkoti\n8.9. TORSTAI klo: 12-14.30.\nRuokailu\, vs. kunnanjohtaja Merja Kosken esittäytyminen ja ajankohtaisia asioita Pyhärannassa\, kahvitus\, Vanhusneuvoston toiminnan esittely\nosallistumismaksu 10€ (sis. ruuan ja ohjelmiston).\nTERVETULOA! \nJärjestäjät: Kunnan vanhusneuvosto\, Nälkkloukan Kyläyhdistys ry.
URL:https://www.pyharanta.fi/event/ikaihmisten-paivatoiminta-4/
END:VEVENT
BEGIN:VEVENT
DTSTART;TZID=Europe/Helsinki:20220825T173000
DTEND;TZID=Europe/Helsinki:20220825T173000
DTSTAMP:20260421T064120
CREATED:20220524T055008Z
LAST-MODIFIED:20220524T055008Z
UID:10000032-1661448600-1661448600@www.pyharanta.fi
SUMMARY:Pyhärannan kunnan yleisurheilun mestaruuskisat
DESCRIPTION:Ihoden Kiri järjestää yhteistyössä Pyhärannan Myrskyn kanssa mestaruuskisat\nRohdaisten kentällä.
URL:https://www.pyharanta.fi/event/pyharannan-kunnan-yleisurheilun-mestaruuskisat/
END:VEVENT
BEGIN:VEVENT
DTSTART;TZID=Europe/Helsinki:20220823T180000
DTEND;TZID=Europe/Helsinki:20220823T200000
DTSTAMP:20260421T064120
CREATED:20220623T104633Z
LAST-MODIFIED:20220628T114751Z
UID:10000005-1661277600-1661284800@www.pyharanta.fi
SUMMARY:Kunnanhallituksen kokous
DESCRIPTION:
URL:https://www.pyharanta.fi/event/kunnanhallituksen-kokous/
END:VEVENT
BEGIN:VEVENT
DTSTART;TZID=Europe/Helsinki:20220820T193000
DTEND;TZID=Europe/Helsinki:20220820T193000
DTSTAMP:20260421T064120
CREATED:20220519T104414Z
LAST-MODIFIED:20220519T104414Z
UID:10000035-1661023800-1661023800@www.pyharanta.fi
SUMMARY:Tanssit Yliskallion lavalla
DESCRIPTION:Tervetuloa tanssimaan Yliskallion perinteiselle tanssilavalle!\nEsiintyjänä on Sakke Kotilainen & Focus.\nTanssit alkavat klo 19.30 ja päättyvät klo 24.00.\n Liput 12 €
URL:https://www.pyharanta.fi/event/tanssit-yliskallion-lavalla-3/
END:VEVENT
BEGIN:VEVENT
DTSTART;TZID=Europe/Helsinki:20220818T173000
DTEND;TZID=Europe/Helsinki:20220818T173000
DTSTAMP:20260421T064120
CREATED:20220523T092126Z
LAST-MODIFIED:20220524T054504Z
UID:10000031-1660843800-1660843800@www.pyharanta.fi
SUMMARY:Lasten yleisurheilukisat Ihoden kentällä
DESCRIPTION:Ihoden Kirin sarjakisat elokuussa joka torstai klo 17.30 alkaen Ihoden kentällä.
URL:https://www.pyharanta.fi/event/yleisurheilukisat-ihoden-kentalla-3/
END:VEVENT
BEGIN:VEVENT
DTSTART;TZID=Europe/Helsinki:20220817T180000
DTEND;TZID=Europe/Helsinki:20220817T180000
DTSTAMP:20260421T064120
CREATED:20220519T095849Z
LAST-MODIFIED:20220519T095849Z
UID:10000045-1660759200-1660759200@www.pyharanta.fi
SUMMARY:Saunailta Rihtnimen leirikeskuksella
DESCRIPTION:4 € /osallistuja (sisältää saunan ja tarjoilut).\nIllan päätämme yhteiseen hartauteen.\n-Pyhärannan seurakunta-
URL:https://www.pyharanta.fi/event/saunailta-rihtnimen-leirikeskuksella/
END:VEVENT
BEGIN:VEVENT
DTSTART;TZID=Europe/Helsinki:20220811T173000
DTEND;TZID=Europe/Helsinki:20220811T173000
DTSTAMP:20260421T064120
CREATED:20220523T092033Z
LAST-MODIFIED:20220524T054604Z
UID:10000038-1660239000-1660239000@www.pyharanta.fi
SUMMARY:Lasten yleisurheilukisat Ihoden kentällä
DESCRIPTION:Ihoden Kirin sarjakisat elokuussa joka torstai klo 17.30 alkaen Ihoden kentällä.
URL:https://www.pyharanta.fi/event/yleisurheilukisat-ihoden-kentalla-2/
END:VEVENT
BEGIN:VEVENT
DTSTART;TZID=Europe/Helsinki:20220810T180000
DTEND;TZID=Europe/Helsinki:20220810T180000
DTSTAMP:20260421T064120
CREATED:20220519T095755Z
LAST-MODIFIED:20220519T095755Z
UID:10000044-1660154400-1660154400@www.pyharanta.fi
SUMMARY:Saunailta Rihtniemen leirikeskuksella
DESCRIPTION:4 € /osallistuja (sisältää saunan ja tarjoilut).\nIllan päätämme yhteiseen hartauteen.\n-Pyhärannan seurakunta-
URL:https://www.pyharanta.fi/event/saunailta-rihtniemen-leirikeskuksella-5/
END:VEVENT
BEGIN:VEVENT
DTSTART;TZID=Europe/Helsinki:20220806T193000
DTEND;TZID=Europe/Helsinki:20220806T193000
DTSTAMP:20260421T064120
CREATED:20220519T104237Z
LAST-MODIFIED:20220519T104237Z
UID:10000042-1659814200-1659814200@www.pyharanta.fi
SUMMARY:Tanssit Yliskallion lavalla
DESCRIPTION:Tervetuloa tanssimaan Yliskallion perinteiselle tanssilavalle!\nEsiintyjänä on Matti Mäntylä & Amorada.\nTanssit alkavat klo 19.30 ja päättyvät klo 24.00.\n Liput 12 €
URL:https://www.pyharanta.fi/event/tanssit-yliskallion-lavalla-2/
END:VEVENT
BEGIN:VEVENT
DTSTART;TZID=Europe/Helsinki:20220806T120000
DTEND;TZID=Europe/Helsinki:20220806T150000
DTSTAMP:20260421T064120
CREATED:20220801T114740Z
LAST-MODIFIED:20220801T114740Z
UID:10000086-1659787200-1659798000@www.pyharanta.fi
SUMMARY:Koko perheen vesistötapahtuma Santtionrannassa
DESCRIPTION:Tervetuloa koko perheen vesistötapahtumaan Pyhärannan Santtionrantaan!\nPuhdas Mannervesi ry:n maksuton kesätapahtuma koko perheelle\, tapahtumassa teemoina ovat vesiensuojelu ja vesien virkistyskäyttö.\nOHJELMASSA KLO 12-15: \n\nLaulaja Piritta Venho ja Kvarsax-saksofonikvartetti\nTaikuri Pauli\nMusiikkia ja taidetuokio\, Venla Wallenius\nHanuristi Matruus Mäkine\nVesipalloilua\nVesitutkimusta lapsille\nKalankäsittelyä\nMeripelastusseuran esitys\nEnsiaputaitoja lapsille\nKierrätystietoa\nTutustu perinneveneisiin ja opi merellisiä perinnekäsitöitä\nMyynnissä partiolaisten lettuja ja herkkuja kahviosta\nTAPAHTUMA ON MAKSUTON\nOsoite: Santtionranta 16\, 23960 Pyhäranta \nYmpäristöpäivä
URL:https://www.pyharanta.fi/event/koko-perheen-vesistotapahtuma-santtionrannassa/
END:VEVENT
BEGIN:VEVENT
DTSTART;TZID=Europe/Helsinki:20220804T173000
DTEND;TZID=Europe/Helsinki:20220804T173000
DTSTAMP:20260421T064120
CREATED:20220523T091925Z
LAST-MODIFIED:20220524T054651Z
UID:10000037-1659634200-1659634200@www.pyharanta.fi
SUMMARY:Lasten yleisurheilukisat Ihoden kentällä
DESCRIPTION:Ihoden Kirin sarjakisat elokuussa joka torstai klo 17.30 alkaen Ihoden kentällä.
URL:https://www.pyharanta.fi/event/yleisurheilukisat-ihoden-kentalla/
END:VEVENT
BEGIN:VEVENT
DTSTART;TZID=Europe/Helsinki:20220803T140000
DTEND;TZID=Europe/Helsinki:20220803T160000
DTSTAMP:20260421T064120
CREATED:20220527T071221Z
LAST-MODIFIED:20220527T071221Z
UID:10000003-1659535200-1659542400@www.pyharanta.fi
SUMMARY:Kiertävä kyläkahvila - Yhteisvastuun hyväksi
DESCRIPTION:Nälkloukkan kyläkoti\, Nälkloukkan kyläyhdistys kahvittaa.\nPaikalla on seurakunnan työntekijöitä\, vapaaehtoisia ja muutama isonen\nmyös leikittämässä lapsia. Laulamme yhdessä Suvivirren.\nTervetuloa mukaan kaikenikäiset pyhärantalaiset!\nVapaaehtoisen kahvirahan voi maksaa yhteisvastuulippaaseen.
URL:https://www.pyharanta.fi/event/kiertava-kylakahvila-yhteisvastuun-hyvaksi-5/
END:VEVENT
BEGIN:VEVENT
DTSTART;TZID=Europe/Helsinki:20220730T160000
DTEND;TZID=Europe/Helsinki:20220730T160000
DTSTAMP:20260421T064120
CREATED:20220517T125939Z
LAST-MODIFIED:20220517T130037Z
UID:10000061-1659196800-1659196800@www.pyharanta.fi
SUMMARY:Ulkoilmakonsertti "Laulu vapauden soi"
DESCRIPTION:Hannulan konsertti- ja taideyhdistyksen ulkoilmakonsertti “Laulu vapauden soi”. \nPyhärannan Reilassa toimivan Hannulan konsertti- ja taideyhdistyksen ensi kesän ulkoilmakonsertissa soivat rauhan ja ystävyyden sävelet. Otsikolla ”Laulu vapauden soi!”  Hantlan solistit ottavat kantaa Ukrainan taisteluihin. He esittävät lauluja rauhan ja ystävyyden puolesta kautta aikojen. Ohjelmassa on sekä klassisia laulusävellyksiä että tunnettuja sodanvastaisia laulelmia\, mm. ”Blowin´in the Wind”\,”Partisaanivalssi” ja ”Matuska”. Osa konsertin tuotosta menee Ukrainan tukemiseen. \nKonsertissa esiintyvät Hannulan omien solistien Laura Nykäsen sekä Essi\, Sami ja Sauli Luttisen lisäksi laulaja\, pianisti ja kuvataiteilija Valtteri Lipasti\, jolla on konsertissa yhteisesityksiä Saulin kanssa. Konsertin säestäjänä toimii pianotaiteilija Janne Hovi. \nKonsertti pidetään Hannulan talon pihapiirissä lauantaina 30.7.2022 klo 16\, osoitteessa Rantatie 1131\, Pyhäranta Reila.
URL:https://www.pyharanta.fi/event/ulkoilmakonsertti/
CATEGORIES:Kulttuuritapahtumat,Tapahtumakalenteri
END:VEVENT
BEGIN:VEVENT
DTSTART;TZID=Europe/Helsinki:20220723T193000
DTEND;TZID=Europe/Helsinki:20220723T193000
DTSTAMP:20260421T064120
CREATED:20220519T104121Z
LAST-MODIFIED:20220519T104121Z
UID:10000041-1658604600-1658604600@www.pyharanta.fi
SUMMARY:Tanssit Yliskallion lavalla
DESCRIPTION:Tervetuloa tanssimaan Yliskallion perinteiselle tanssilavalle!\nEsiintyjänä on Satellittitaivas.\nTanssit alkavat klo 19.30 ja päättyvät klo 24.00.\n Liput 12 €
URL:https://www.pyharanta.fi/event/tanssit-yliskallion-lavalla/
END:VEVENT
BEGIN:VEVENT
DTSTART;TZID=Europe/Helsinki:20220723T180000
DTEND;TZID=Europe/Helsinki:20220723T180000
DTSTAMP:20260421T064120
CREATED:20220524T105430Z
LAST-MODIFIED:20220524T105430Z
UID:10000033-1658599200-1658599200@www.pyharanta.fi
SUMMARY:Suulirock Santtiolla
DESCRIPTION:Rantatie 470 Pyhäranta \nKellonaika tarkentuu myöhemmin.
URL:https://www.pyharanta.fi/event/suulirock-santtiolla/
END:VEVENT
BEGIN:VEVENT
DTSTART;TZID=Europe/Helsinki:20220714T180000
DTEND;TZID=Europe/Helsinki:20220714T180000
DTSTAMP:20260421T064120
CREATED:20220518T083331Z
LAST-MODIFIED:20220518T083331Z
UID:10000054-1657821600-1657821600@www.pyharanta.fi
SUMMARY:Kesäteatteriesitys "Myrskyluodon Maija" Santtion kesäteatterissa
DESCRIPTION:Kesällä 2021 suuren suosion saanut Myrskyluodon Maija jatkaa Pyhärannan Santtion (Santtionranta 16) kesäteatterissa kesällä 2022. \nUlkosaariston karut kalliorannat ja alati muuttuva\, voimallinen meri luovat raamit Maijan kasvutarinalle. Tarinalle naisesta\, jonka on opittava lukemaan kahlitsematonta luontoa. Opittava luopumaan\, opittava onnen hetket ja rakkaus. Elämänmakuisessa kertomuksessa 1800-luvun saaristolaisten elon sävyt iloista suruihin soivat Myrskyluodon Maijan upeassa musiikissa.
URL:https://www.pyharanta.fi/event/kesateatteriesitys-myrskyluodon-maija-santtion-kesateatterissa-11/
END:VEVENT
BEGIN:VEVENT
DTSTART;TZID=Europe/Helsinki:20220713T180000
DTEND;TZID=Europe/Helsinki:20220713T180000
DTSTAMP:20260421T064120
CREATED:20220519T095641Z
LAST-MODIFIED:20220519T095641Z
UID:10000043-1657735200-1657735200@www.pyharanta.fi
SUMMARY:Saunailta Rihtniemen leirikeskuksella
DESCRIPTION:4 € /osallistuja (sisältää saunan ja tarjoilut).\nIllan päätämme yhteiseen hartauteen.\n-Pyhärannan seurakunta-
URL:https://www.pyharanta.fi/event/saunailta-rihtniemen-leirikeskuksella-4/
END:VEVENT
BEGIN:VEVENT
DTSTART;TZID=Europe/Helsinki:20220713T180000
DTEND;TZID=Europe/Helsinki:20220713T180000
DTSTAMP:20260421T064120
CREATED:20220518T082828Z
LAST-MODIFIED:20220518T083058Z
UID:10000053-1657735200-1657735200@www.pyharanta.fi
SUMMARY:Kesäteatteriesitys "Myrskyluodon Maija" Santtion kesäteatterissa
DESCRIPTION:Kesällä 2021 suuren suosion saanut Myrskyluodon Maija jatkaa Pyhärannan Santtion (Santtionranta 16) kesäteatterissa kesällä 2022. \nUlkosaariston karut kalliorannat ja alati muuttuva\, voimallinen meri luovat raamit Maijan kasvutarinalle. Tarinalle naisesta\, jonka on opittava lukemaan kahlitsematonta luontoa. Opittava luopumaan\, opittava onnen hetket ja rakkaus. Elämänmakuisessa kertomuksessa 1800-luvun saaristolaisten elon sävyt iloista suruihin soivat Myrskyluodon Maijan upeassa musiikissa.
URL:https://www.pyharanta.fi/event/kesateatteriesitys-myrskyluodon-maija-santtion-kesateatterissa-10/
END:VEVENT
BEGIN:VEVENT
DTSTART;TZID=Europe/Helsinki:20220713T140000
DTEND;TZID=Europe/Helsinki:20220713T160000
DTSTAMP:20260421T064120
CREATED:20220527T070944Z
LAST-MODIFIED:20220527T070944Z
UID:10000002-1657720800-1657728000@www.pyharanta.fi
SUMMARY:Kiertävä kyläkahvila - Yhteisvastuun hyväksi
DESCRIPTION:Rihtniemen leirikeskus.\nPaikalla on seurakunnan työntekijöitä\, vapaaehtoisia ja muutama isonen\nmyös leikittämässä lapsia. Laulamme yhdessä Suvivirren.\nTervetuloa mukaan kaikenikäiset pyhärantalaiset!\nVapaaehtoisen kahvirahan voi maksaa yhteisvastuulippaaseen.
URL:https://www.pyharanta.fi/event/kiertava-kylakahvila-yhteisvastuun-hyvaksi-4/
END:VEVENT
BEGIN:VEVENT
DTSTART;TZID=Europe/Helsinki:20220712T180000
DTEND;TZID=Europe/Helsinki:20220712T180000
DTSTAMP:20260421T064120
CREATED:20220518T082005Z
LAST-MODIFIED:20220518T082005Z
UID:10000052-1657648800-1657648800@www.pyharanta.fi
SUMMARY:Kesäteatteriesitys "Myrskyluodon Maija" Santtion kesäteatterissa
DESCRIPTION:Kesällä 2021 suuren suosion saanut Myrskyluodon Maija jatkaa Pyhärannan Santtion (Santtionranta 16) kesäteatterissa kesällä 2022. \nUlkosaariston karut kalliorannat ja alati muuttuva\, voimallinen meri luovat raamit Maijan kasvutarinalle. Tarinalle naisesta\, jonka on opittava lukemaan kahlitsematonta luontoa. Opittava luopumaan\, opittava onnen hetket ja rakkaus. Elämänmakuisessa kertomuksessa 1800-luvun saaristolaisten elon sävyt iloista suruihin soivat Myrskyluodon Maijan upeassa musiikissa.
URL:https://www.pyharanta.fi/event/kesateatteriesitys-myrskyluodon-maija-santtion-kesateatterissa-9/
END:VEVENT
BEGIN:VEVENT
DTSTART;TZID=Europe/Helsinki:20220710T150000
DTEND;TZID=Europe/Helsinki:20220710T150000
DTSTAMP:20260421T064120
CREATED:20220518T081905Z
LAST-MODIFIED:20220518T081905Z
UID:10000051-1657465200-1657465200@www.pyharanta.fi
SUMMARY:Kesäteatteriesitys "Myrskyluodon Maija" Santtion kesäteatterissa
DESCRIPTION:Kesällä 2021 suuren suosion saanut Myrskyluodon Maija jatkaa Pyhärannan Santtion (Santtionranta 16) kesäteatterissa kesällä 2022. \nUlkosaariston karut kalliorannat ja alati muuttuva\, voimallinen meri luovat raamit Maijan kasvutarinalle. Tarinalle naisesta\, jonka on opittava lukemaan kahlitsematonta luontoa. Opittava luopumaan\, opittava onnen hetket ja rakkaus. Elämänmakuisessa kertomuksessa 1800-luvun saaristolaisten elon sävyt iloista suruihin soivat Myrskyluodon Maijan upeassa musiikissa.
URL:https://www.pyharanta.fi/event/kesateatteriesitys-myrskyluodon-maija-santtion-kesateatterissa-8/
END:VEVENT
BEGIN:VEVENT
DTSTART;TZID=Europe/Helsinki:20220709T193000
DTEND;TZID=Europe/Helsinki:20220709T193000
DTSTAMP:20260421T064120
CREATED:20220519T103957Z
LAST-MODIFIED:20220519T103957Z
UID:10000040-1657395000-1657395000@www.pyharanta.fi
SUMMARY:Tanssit Yliskallion tanssilavalla
DESCRIPTION:Tervetuloa tanssimaan Yliskallion perinteiselle tanssilavalle!\nEsiintyjänä on Terhi Jokilan kvartetti\nTanssit alkavat klo 19.30 ja päättyvät klo 24.00.\n Liput 12 €
URL:https://www.pyharanta.fi/event/tanssit-yliskallion-tanssilavalla-2/
END:VEVENT
BEGIN:VEVENT
DTSTART;TZID=Europe/Helsinki:20220709T150000
DTEND;TZID=Europe/Helsinki:20220709T150000
DTSTAMP:20260421T064120
CREATED:20220518T081803Z
LAST-MODIFIED:20220518T081803Z
UID:10000059-1657378800-1657378800@www.pyharanta.fi
SUMMARY:Kesäteatteriesitys "Myrskyluodon Maija " Santtion kesäteatterissa
DESCRIPTION:Kesällä 2021 suuren suosion saanut Myrskyluodon Maija jatkaa Pyhärannan Santtion (Santtionranta 16) kesäteatterissa kesällä 2022. \nUlkosaariston karut kalliorannat ja alati muuttuva\, voimallinen meri luovat raamit Maijan kasvutarinalle. Tarinalle naisesta\, jonka on opittava lukemaan kahlitsematonta luontoa. Opittava luopumaan\, opittava onnen hetket ja rakkaus. Elämänmakuisessa kertomuksessa 1800-luvun saaristolaisten elon sävyt iloista suruihin soivat Myrskyluodon Maijan upeassa musiikissa.
URL:https://www.pyharanta.fi/event/kesateatteriesitys-myrskyluodon-maija-santtion-kesateatterissa-7/
END:VEVENT
BEGIN:VEVENT
DTSTART;TZID=Europe/Helsinki:20220707T180000
DTEND;TZID=Europe/Helsinki:20220707T180000
DTSTAMP:20260421T064120
CREATED:20220518T081655Z
LAST-MODIFIED:20220518T081655Z
UID:10000058-1657216800-1657216800@www.pyharanta.fi
SUMMARY:Kesäteatteriesitys "Myrskyluodon Maija" Santtion kesäteatterissa
DESCRIPTION:Kesällä 2021 suuren suosion saanut Myrskyluodon Maija jatkaa Pyhärannan Santtion (Santtionranta 16) kesäteatterissa kesällä 2022. \nUlkosaariston karut kalliorannat ja alati muuttuva\, voimallinen meri luovat raamit Maijan kasvutarinalle. Tarinalle naisesta\, jonka on opittava lukemaan kahlitsematonta luontoa. Opittava luopumaan\, opittava onnen hetket ja rakkaus. Elämänmakuisessa kertomuksessa 1800-luvun saaristolaisten elon sävyt iloista suruihin soivat Myrskyluodon Maijan upeassa musiikissa.
URL:https://www.pyharanta.fi/event/kesateatteriesitys-myrskyluodon-maija-santtion-kesateatterissa-6/
END:VEVENT
BEGIN:VEVENT
DTSTART;TZID=Europe/Helsinki:20220707T100000
DTEND;TZID=Europe/Helsinki:20220707T150000
DTSTAMP:20260421T064120
CREATED:20220519T103051Z
LAST-MODIFIED:20220519T103051Z
UID:10000046-1657188000-1657206000@www.pyharanta.fi
SUMMARY:Koululaisten toimintapäivä Rihtniemen leirikeskuksella
DESCRIPTION:Ohjelmassa yhteisiä pelejä \, leikkejä\, kisailuja sekä muuta yhteistä puuhaa. \nMukaan säähän sopivat vaatteet\, pyyhe ja uikkarit sekä ennen kaikkea iloista mieltä. \nPäivän hinta 5 €/ osallistuja\, kerätään paikan päällä. \nKulku toimintapäivään tapahtuu omin kyydein. \nIlmoittautuminen toimintapäivää 20.6.-3.7.välisenä aikana nettisivuilta löytyvällä lomakkeella:\nhttps://www.pyharannanseurakunta.fi/tapahtumat/2022-07-07/koululaisten-toimintapaiva
URL:https://www.pyharanta.fi/event/koululaisten-toimintapaiva-rihtniemen-leirikeskuksella/
END:VEVENT
BEGIN:VEVENT
DTSTART;TZID=Europe/Helsinki:20220706T180000
DTEND;TZID=Europe/Helsinki:20220706T180000
DTSTAMP:20260421T064120
CREATED:20220519T095546Z
LAST-MODIFIED:20220519T095546Z
UID:10000050-1657130400-1657130400@www.pyharanta.fi
SUMMARY:Saunailta Rihtniemen leirikeskuksella
DESCRIPTION:4 € /osallistuja (sisältää saunan ja tarjoilut).\nIllan päätämme yhteiseen hartauteen.\n-Pyhärannan seurakunta-
URL:https://www.pyharanta.fi/event/saunailta-rihtniemen-leirikeskuksella-3/
END:VEVENT
BEGIN:VEVENT
DTSTART;TZID=Europe/Helsinki:20220706T180000
DTEND;TZID=Europe/Helsinki:20220706T180000
DTSTAMP:20260421T064120
CREATED:20220518T081546Z
LAST-MODIFIED:20220518T081546Z
UID:10000057-1657130400-1657130400@www.pyharanta.fi
SUMMARY:Kesäteatteriesitys "Myrskyluodon Maija" Santtion kesäteatterissa
DESCRIPTION:Kesällä 2021 suuren suosion saanut Myrskyluodon Maija jatkaa Pyhärannan Santtion (Santtionranta 16) kesäteatterissa kesällä 2022. \nUlkosaariston karut kalliorannat ja alati muuttuva\, voimallinen meri luovat raamit Maijan kasvutarinalle. Tarinalle naisesta\, jonka on opittava lukemaan kahlitsematonta luontoa. Opittava luopumaan\, opittava onnen hetket ja rakkaus. Elämänmakuisessa kertomuksessa 1800-luvun saaristolaisten elon sävyt iloista suruihin soivat Myrskyluodon Maijan upeassa musiikissa.
URL:https://www.pyharanta.fi/event/kesateatteriesitys-myrskyluodon-maija-santtion-kesateatterissa-5/
END:VEVENT
BEGIN:VEVENT
DTSTART;TZID=Europe/Helsinki:20220705T180000
DTEND;TZID=Europe/Helsinki:20220705T180000
DTSTAMP:20260421T064120
CREATED:20220518T081426Z
LAST-MODIFIED:20220518T081426Z
UID:10000056-1657044000-1657044000@www.pyharanta.fi
SUMMARY:Kesäteatteriesitys "Myrskyluodon Maija" Santtion kesäteatterissa
DESCRIPTION:Kesällä 2021 suuren suosion saanut Myrskyluodon Maija jatkaa Pyhärannan Santtion (Santtionranta 16) kesäteatterissa kesällä 2022. \nUlkosaariston karut kalliorannat ja alati muuttuva\, voimallinen meri luovat raamit Maijan kasvutarinalle. Tarinalle naisesta\, jonka on opittava lukemaan kahlitsematonta luontoa. Opittava luopumaan\, opittava onnen hetket ja rakkaus. Elämänmakuisessa kertomuksessa 1800-luvun saaristolaisten elon sävyt iloista suruihin soivat Myrskyluodon Maijan upeassa musiikissa.
URL:https://www.pyharanta.fi/event/kesateatteriesitys-myrskyluodon-maija-santtion-kesateatterissa-4/
END:VEVENT
BEGIN:VEVENT
DTSTART;TZID=Europe/Helsinki:20220703T150000
DTEND;TZID=Europe/Helsinki:20220703T150000
DTSTAMP:20260421T064120
CREATED:20220517T131257Z
LAST-MODIFIED:20220517T131257Z
UID:10000055-1656860400-1656860400@www.pyharanta.fi
SUMMARY:Kesäteatteriesitys "Myrskyluodon Maija" Santtion kesäteatterissa
DESCRIPTION:Kesällä 2021 suuren suosion saanut Myrskyluodon Maija jatkaa Pyhärannan Santtion (Santtionranta 16) kesäteatterissa kesällä 2022. \nUlkosaariston karut kalliorannat ja alati muuttuva\, voimallinen meri luovat raamit Maijan kasvutarinalle. Tarinalle naisesta\, jonka on opittava lukemaan kahlitsematonta luontoa. Opittava luopumaan\, opittava onnen hetket ja rakkaus. Elämänmakuisessa kertomuksessa 1800-luvun saaristolaisten elon sävyt iloista suruihin soivat Myrskyluodon Maijan upeassa musiikissa.
URL:https://www.pyharanta.fi/event/kesateatteriesitys-myrskyluodon-maija-santtion-kesateatterissa-3/
END:VEVENT
END:VCALENDAR