BEGIN:VCALENDAR
VERSION:2.0
PRODID:-//Pyhäranta - ECPv6.6.2//NONSGML v1.0//EN
CALSCALE:GREGORIAN
METHOD:PUBLISH
X-WR-CALNAME:Pyhäranta
X-ORIGINAL-URL:https://www.pyharanta.fi
X-WR-CALDESC:Events for Pyhäranta
REFRESH-INTERVAL;VALUE=DURATION:PT1H
X-Robots-Tag:noindex
X-PUBLISHED-TTL:PT1H
BEGIN:VTIMEZONE
TZID:Europe/Helsinki
BEGIN:DAYLIGHT
TZOFFSETFROM:+0200
TZOFFSETTO:+0300
TZNAME:EEST
DTSTART:20210328T010000
END:DAYLIGHT
BEGIN:STANDARD
TZOFFSETFROM:+0300
TZOFFSETTO:+0200
TZNAME:EET
DTSTART:20211031T010000
END:STANDARD
BEGIN:DAYLIGHT
TZOFFSETFROM:+0200
TZOFFSETTO:+0300
TZNAME:EEST
DTSTART:20220327T010000
END:DAYLIGHT
BEGIN:STANDARD
TZOFFSETFROM:+0300
TZOFFSETTO:+0200
TZNAME:EET
DTSTART:20221030T010000
END:STANDARD
END:VTIMEZONE
BEGIN:VEVENT
DTSTART;TZID=Europe/Helsinki:20220331T100000
DTEND;TZID=Europe/Helsinki:20220331T130000
DTSTAMP:20260422T034521
CREATED:20220323T135225Z
LAST-MODIFIED:20220323T135717Z
UID:10000078-1648720800-1648731600@www.pyharanta.fi
SUMMARY:Ikäihmisten päivätoiminta
DESCRIPTION:Ikäihmisten päivätoimintaa järjestetään pitkän koronatauon jälkeen Kaukan kyläkodilla (osoite Kaukanraitti 24).\nTule paikan päälle nauttimaan hyvästä ruuasta\, seurasta ja ohjelmasta!\nOsallistumismaksu 10 € sisältää runsaan ruuan\, kahvit ja ohjelman.\nMaksu laskutetaan kausi kerrallaan\, joten ei käteismaksua.\nKyyti paikan päälle on omakustanteinen\, kyytiä kannattaa kysyä vaikkapa kaverilta tai naapurilta. \nKunta järjestää päivätoimintaa eri järjestöjen ja vapaaehtoistoimijoiden kanssa. \nSeuraavat päivätoimintapäivät.\nTorstaina 7.4. klo 10-13\nTorstaina 5.5. klo 10-13 \nTiedustelut:\nHanna Piironen/sosiaalitoimi\, puh. 044 738 3421 (soittoaika arkisin klo 10-11)\nHilppa Karru/ruokailu\, puh. 040 582 4184
URL:https://www.pyharanta.fi/event/ikaihmisten-paivatoiminta/
CATEGORIES:Tapahtumakalenteri
END:VEVENT
BEGIN:VEVENT
DTSTART;TZID=Europe/Helsinki:20220222T140000
DTEND;TZID=Europe/Helsinki:20220222T180000
DTSTAMP:20260422T034521
CREATED:20220217T114913Z
LAST-MODIFIED:20220217T114913Z
UID:10000077-1645538400-1645552800@www.pyharanta.fi
SUMMARY:Talvirieha
DESCRIPTION:Talviriehatapahtuma\nTiistaina 22.2.2022 klo 14-18\nRohdaisten jääkiekkokaukalon läheisyydessä. \nRastirata (radan suorittaneille herkkua ja arvontaan osallistuminen) \n \n\nkahvia ja mehua\npullaa ja makkaraa\n\nLumiveistosten tekoa\nKaverikoirat odottavat rapsutuksiasi!\nYhteistyössä: Kunnan liikunta- ja nuorisotoimi\, Myrsky\, 4H ja Srk\nLisätietoja: Minna Kurki p. 044 738 3458
URL:https://www.pyharanta.fi/event/talvirieha/
END:VEVENT
BEGIN:VEVENT
DTSTART;TZID=Europe/Helsinki:20211206T093000
DTEND;TZID=Europe/Helsinki:20211206T093000
DTSTAMP:20260422T034521
CREATED:20211130T062911Z
LAST-MODIFIED:20211203T094947Z
UID:10000076-1638783000-1638783000@www.pyharanta.fi
SUMMARY:Pyhärannan itsenäisyysjuhla 6.12.2021
DESCRIPTION:Kutsu kaikille pyhärantalaisille! \n  \n \nKlo 9.30 Pyhärannan Korpiankkurit nostavat lipun salkoon\nKlo 10:00 Jumalanpalvelus Pyhärannan kirkossa kirkkoherra Riitta Komu\nKlo 11.00 seppeleen lasku sankarihaudalle\, kunnan edustajana valtuutettu Pirkko Uusi-Oukari\,\nLC Pyhäranta sytyttää sankarihaudoille kynttilälyhdyt \nHuom! Vallitsevan koronatilanteen vuoksi kunnan itsenäisyyspäivän kahvitilaisuus on peruutettu. \nHyvää itsenäisyyspäivää kaikille kuntalaisille!
URL:https://www.pyharanta.fi/event/pyharannan-itsenaisyysjuhla-6-12-2021/
CATEGORIES:Kulttuuritapahtumat
END:VEVENT
BEGIN:VEVENT
DTSTART;TZID=Europe/Helsinki:20210927T080000
DTEND;TZID=Europe/Helsinki:20210927T170000
DTSTAMP:20260422T034521
CREATED:20210924T074225Z
LAST-MODIFIED:20210924T080930Z
UID:10000075-1632729600-1632762000@www.pyharanta.fi
SUMMARY:Testitapahtuma
DESCRIPTION:Tapahtuman esittely tulee tähän.
URL:https://www.pyharanta.fi/event/testitapahtuma/
LOCATION:Kirjasto\, Malliosoite\, Pyhäranta\, Suomi
CATEGORIES:Yleiset
ATTACH;FMTTYPE=image/jpeg:https://www.pyharanta.fi/wp-content/uploads/2021/09/nuorisotilat.jpg
END:VEVENT
BEGIN:VEVENT
DTSTART;VALUE=DATE:20210827
DTEND;VALUE=DATE:20210830
DTSTAMP:20260422T034521
CREATED:20210826T065441Z
LAST-MODIFIED:20210826T065441Z
UID:10000074-1630022400-1630281599@www.pyharanta.fi
SUMMARY:Mallitapahtuma
DESCRIPTION:Mallitapahtuman tiedot.
URL:https://www.pyharanta.fi/event/mallitapahtuma/
CATEGORIES:Yleiset
END:VEVENT
END:VCALENDAR