BEGIN:VCALENDAR
VERSION:2.0
PRODID:-//Pyhäranta - ECPv6.6.2//NONSGML v1.0//EN
CALSCALE:GREGORIAN
METHOD:PUBLISH
X-ORIGINAL-URL:https://www.pyharanta.fi
X-WR-CALDESC:Events for Pyhäranta
REFRESH-INTERVAL;VALUE=DURATION:PT1H
X-Robots-Tag:noindex
X-PUBLISHED-TTL:PT1H
BEGIN:VTIMEZONE
TZID:Europe/Helsinki
BEGIN:DAYLIGHT
TZOFFSETFROM:+0200
TZOFFSETTO:+0300
TZNAME:EEST
DTSTART:20230326T010000
END:DAYLIGHT
BEGIN:STANDARD
TZOFFSETFROM:+0300
TZOFFSETTO:+0200
TZNAME:EET
DTSTART:20231029T010000
END:STANDARD
END:VTIMEZONE
BEGIN:VEVENT
DTSTART;TZID=Europe/Helsinki:20230214T090000
DTEND;TZID=Europe/Helsinki:20230214T150000
DTSTAMP:20260424T055813
CREATED:20230118T094656Z
LAST-MODIFIED:20230118T094656Z
UID:10000019-1676365200-1676386800@www.pyharanta.fi
SUMMARY:Avoimet ovet kunnanvirastolla
DESCRIPTION:Avoimet ovet -tapahtuma kunnanvirastolla osoitteessa Lasikuja 6\, 27320 Ihode
URL:https://www.pyharanta.fi/event/avoimet-ovet-kunnanvirastolla/
END:VEVENT
BEGIN:VEVENT
DTSTART;TZID=Europe/Helsinki:20230221T180000
DTEND;TZID=Europe/Helsinki:20230221T200000
DTSTAMP:20260424T055813
CREATED:20230118T090609Z
LAST-MODIFIED:20230118T090609Z
UID:10000014-1677002400-1677009600@www.pyharanta.fi
SUMMARY:Kunnanhallituksen kokous
DESCRIPTION:
URL:https://www.pyharanta.fi/event/kunnanhallituksen-kokous-7/
END:VEVENT
END:VCALENDAR