BEGIN:VCALENDAR
VERSION:2.0
PRODID:-//Pyhäranta - ECPv6.6.2//NONSGML v1.0//EN
CALSCALE:GREGORIAN
METHOD:PUBLISH
X-WR-CALNAME:Pyhäranta
X-ORIGINAL-URL:https://www.pyharanta.fi
X-WR-CALDESC:Events for Pyhäranta
REFRESH-INTERVAL;VALUE=DURATION:PT1H
X-Robots-Tag:noindex
X-PUBLISHED-TTL:PT1H
BEGIN:VTIMEZONE
TZID:Europe/Helsinki
BEGIN:DAYLIGHT
TZOFFSETFROM:+0200
TZOFFSETTO:+0300
TZNAME:EEST
DTSTART:20230326T010000
END:DAYLIGHT
BEGIN:STANDARD
TZOFFSETFROM:+0300
TZOFFSETTO:+0200
TZNAME:EET
DTSTART:20231029T010000
END:STANDARD
END:VTIMEZONE
BEGIN:VEVENT
DTSTART;TZID=Europe/Helsinki:20230405T180000
DTEND;TZID=Europe/Helsinki:20230405T200000
DTSTAMP:20260424T003633
CREATED:20230404T083543Z
LAST-MODIFIED:20230404T083543Z
UID:10000092-1680717600-1680724800@www.pyharanta.fi
SUMMARY:Keskustelutilaisuus Rohdaisten koulualueen asukkaille
DESCRIPTION:
URL:https://www.pyharanta.fi/event/keskustelutilaisuus-rohdaisten-koulualueen-asukkaille/
END:VEVENT
BEGIN:VEVENT
DTSTART;TZID=Europe/Helsinki:20230413T120000
DTEND;TZID=Europe/Helsinki:20230413T143000
DTSTAMP:20260424T003633
CREATED:20230404T083729Z
LAST-MODIFIED:20230404T083729Z
UID:10000093-1681387200-1681396200@www.pyharanta.fi
SUMMARY:Ikäihmisten (65v+) päivätoiminta Kaukan kyläkodilla
DESCRIPTION:Toimintapäivä Kaukan kyläkodilla (os. Kaukanraitti 24) torstaina 13.4. klo 12.00-14.30.\nAiheena ikäihmisten sosiaalitoimen palvelut kunnassamme\, sosiaaliohjaaja Hanna Piironen.\nVirkistävää yhdessäoloa nauttien maukkaan ruuasta. Osallistumismaksu 5 €/hlö laskutetaan jälkikäteen.\nMaksu sisältää ohjelman ja ruokailun. Kuljetusta ei järjestetä erikseen\, kysy tarvittaessa\nkyytiä kaverilta tai vapaaehtoistoimijoilta.
URL:https://www.pyharanta.fi/event/ikaihmisten-65v-paivatoiminta-kaukan-kylakodilla/
END:VEVENT
BEGIN:VEVENT
DTSTART;TZID=Europe/Helsinki:20230425T180000
DTEND;TZID=Europe/Helsinki:20230425T200000
DTSTAMP:20260424T003633
CREATED:20230118T093736Z
LAST-MODIFIED:20230404T090048Z
UID:10000017-1682445600-1682452800@www.pyharanta.fi
SUMMARY:Kunnanhallituksen kokous
DESCRIPTION:
URL:https://www.pyharanta.fi/event/kunnanvaltuuston-kokous-3/
END:VEVENT
END:VCALENDAR