BEGIN:VCALENDAR
VERSION:2.0
PRODID:-//Pyhäranta - ECPv6.6.2//NONSGML v1.0//EN
CALSCALE:GREGORIAN
METHOD:PUBLISH
X-WR-CALNAME:Pyhäranta
X-ORIGINAL-URL:https://www.pyharanta.fi
X-WR-CALDESC:Events for Pyhäranta
REFRESH-INTERVAL;VALUE=DURATION:PT1H
X-Robots-Tag:noindex
X-PUBLISHED-TTL:PT1H
BEGIN:VTIMEZONE
TZID:Europe/Helsinki
BEGIN:DAYLIGHT
TZOFFSETFROM:+0200
TZOFFSETTO:+0300
TZNAME:EEST
DTSTART:20230326T010000
END:DAYLIGHT
BEGIN:STANDARD
TZOFFSETFROM:+0300
TZOFFSETTO:+0200
TZNAME:EET
DTSTART:20231029T010000
END:STANDARD
END:VTIMEZONE
BEGIN:VEVENT
DTSTART;TZID=Europe/Helsinki:20231103T180000
DTEND;TZID=Europe/Helsinki:20231103T210000
DTSTAMP:20260423T024307
CREATED:20231011T112420Z
LAST-MODIFIED:20231011T112420Z
UID:10000105-1699034400-1699045200@www.pyharanta.fi
SUMMARY:MLL Nuokkari Ihodessa
DESCRIPTION:Nuokkari avoinna: \nKlo 18.00 alkaen 5-6 -lk ja yläkoululaiset \nKlo 19.30-21.00 yläkoululaisille ja vanhemmille
URL:https://www.pyharanta.fi/event/mll-nuokkari-ihodessa/
END:VEVENT
BEGIN:VEVENT
DTSTART;TZID=Europe/Helsinki:20231114T180000
DTEND;TZID=Europe/Helsinki:20231114T200000
DTSTAMP:20260423T024307
CREATED:20230814T105739Z
LAST-MODIFIED:20230814T105739Z
UID:10000023-1699984800-1699992000@www.pyharanta.fi
SUMMARY:Kunnanhallituksen kokous
DESCRIPTION:
URL:https://www.pyharanta.fi/event/kunnanhallituksen-kokous-14/
END:VEVENT
BEGIN:VEVENT
DTSTART;TZID=Europe/Helsinki:20231121T180000
DTEND;TZID=Europe/Helsinki:20231121T210000
DTSTAMP:20260423T024307
CREATED:20230926T070535Z
LAST-MODIFIED:20230926T074212Z
UID:10000029-1700589600-1700600400@www.pyharanta.fi
SUMMARY:Kunnanvaltuuston kokous
DESCRIPTION:Kunnanvaltuuston kokous Ihoden koululla
URL:https://www.pyharanta.fi/event/valtuuston-kokous-4/
END:VEVENT
BEGIN:VEVENT
DTSTART;TZID=Europe/Helsinki:20231125T090000
DTEND;TZID=Europe/Helsinki:20231125T130000
DTSTAMP:20260423T024307
CREATED:20231011T113847Z
LAST-MODIFIED:20231011T113848Z
UID:10000107-1700902800-1700917200@www.pyharanta.fi
SUMMARY:MLL Pyhäranta: Ensiapua lapsille -kurssi
DESCRIPTION:Kurssipaikka: Ihoden koulu \nOsallistumismaksu: 5 €\, sis. kahvin ja sämpylän \nIlmoittautumiset (nimi\, sähköpostiosoite\, syntymäaika ja mahdolliset ruoka-aineallergiat) 20.11. mennessä pyharannanmll@www.pyharanta.fi tai 044 504 9378 / Minna. \n 
URL:https://www.pyharanta.fi/event/mll-pyharanta-ensiapua-lapsille-kurssi/
END:VEVENT
BEGIN:VEVENT
DTSTART;TZID=Europe/Helsinki:20231128T180000
DTEND;TZID=Europe/Helsinki:20231128T203000
DTSTAMP:20260423T024307
CREATED:20231011T104155Z
LAST-MODIFIED:20231123T074722Z
UID:10000030-1701194400-1701203400@www.pyharanta.fi
SUMMARY:Kunnanhallituksen kokous
DESCRIPTION:
URL:https://www.pyharanta.fi/event/kunnanhallituksen-kokous-15/
END:VEVENT
END:VCALENDAR