BEGIN:VCALENDAR
VERSION:2.0
PRODID:-//Pyhäranta - ECPv6.6.2//NONSGML v1.0//EN
CALSCALE:GREGORIAN
METHOD:PUBLISH
X-WR-CALNAME:Pyhäranta
X-ORIGINAL-URL:https://www.pyharanta.fi
X-WR-CALDESC:Events for Pyhäranta
REFRESH-INTERVAL;VALUE=DURATION:PT1H
X-Robots-Tag:noindex
X-PUBLISHED-TTL:PT1H
BEGIN:VTIMEZONE
TZID:Europe/Helsinki
BEGIN:DAYLIGHT
TZOFFSETFROM:+0200
TZOFFSETTO:+0300
TZNAME:EEST
DTSTART:20240331T010000
END:DAYLIGHT
BEGIN:STANDARD
TZOFFSETFROM:+0300
TZOFFSETTO:+0200
TZNAME:EET
DTSTART:20241027T010000
END:STANDARD
END:VTIMEZONE
BEGIN:VEVENT
DTSTART;TZID=Europe/Helsinki:20240116T110000
DTEND;TZID=Europe/Helsinki:20240116T130000
DTSTAMP:20260422T173821
CREATED:20240110T104227Z
LAST-MODIFIED:20240110T104227Z
UID:10000136-1705402800-1705410000@www.pyharanta.fi
SUMMARY:Ilonhetki -kerhotoiminta ikäihmisille
DESCRIPTION:Kerho-ohjaaja: Roosa Saine \n  \nIlmoittautumiset kerhotoimintaan: \ninfo@ilonhetki.fi tai 040 937 4881. \n  \nKerhotoimintaan mahtuu 20 ilmoittautunutta. \n  \nKerhopaikka: Ihoden nuorisotila\, Ihoden kylätie 27 \nKevään kokoontumiset: tiistaisin klo 11-13. \n 
URL:https://www.pyharanta.fi/event/ilonhetki-kerhotoiminta-ikaihmisille/
END:VEVENT
BEGIN:VEVENT
DTSTART;TZID=Europe/Helsinki:20240116T180000
DTEND;TZID=Europe/Helsinki:20240116T200000
DTSTAMP:20260422T173821
CREATED:20231017T090359Z
LAST-MODIFIED:20240104T150027Z
UID:10000109-1705428000-1705435200@www.pyharanta.fi
SUMMARY:Kunnanhallituksen kokous
DESCRIPTION:
URL:https://www.pyharanta.fi/event/kunnanhallituksen-kokous-16/
END:VEVENT
BEGIN:VEVENT
DTSTART;TZID=Europe/Helsinki:20240117T090000
DTEND;TZID=Europe/Helsinki:20240117T150000
DTSTAMP:20260422T173821
CREATED:20240110T103041Z
LAST-MODIFIED:20240110T104410Z
UID:10000128-1705482000-1705503600@www.pyharanta.fi
SUMMARY:Presidentinvaalien ennakkoäänestys
DESCRIPTION:Rohdaisten nuorisotila \nEnolankuja 2\, 23950 Pyhäranta
URL:https://www.pyharanta.fi/event/presidentinvaalien-ennakkoaanestys/
END:VEVENT
BEGIN:VEVENT
DTSTART;TZID=Europe/Helsinki:20240118T090000
DTEND;TZID=Europe/Helsinki:20240118T150000
DTSTAMP:20260422T173821
CREATED:20240110T103134Z
LAST-MODIFIED:20240110T103134Z
UID:10000129-1705568400-1705590000@www.pyharanta.fi
SUMMARY:Presidentinvaalien ennakkoäänestys
DESCRIPTION:Rohdaisten nuorisotila \nEnolankuja 2\, 23950 Pyhäranta
URL:https://www.pyharanta.fi/event/presidentinvaalien-ennakkoaanestys-2/
END:VEVENT
BEGIN:VEVENT
DTSTART;TZID=Europe/Helsinki:20240119T090000
DTEND;TZID=Europe/Helsinki:20240119T150000
DTSTAMP:20260422T173821
CREATED:20240110T103211Z
LAST-MODIFIED:20240110T103211Z
UID:10000130-1705654800-1705676400@www.pyharanta.fi
SUMMARY:Presidentinvaalien ennakkoäänestys
DESCRIPTION:Rohdaisten nuorisotila \nEnolankuja 2\, 23950 Pyhäranta
URL:https://www.pyharanta.fi/event/presidentinvaalien-ennakkoaanestys-3/
END:VEVENT
BEGIN:VEVENT
DTSTART;TZID=Europe/Helsinki:20240120T100000
DTEND;TZID=Europe/Helsinki:20240120T140000
DTSTAMP:20260422T173821
CREATED:20240110T103239Z
LAST-MODIFIED:20240110T103239Z
UID:10000131-1705744800-1705759200@www.pyharanta.fi
SUMMARY:Presidentinvaalien ennakkoäänestys
DESCRIPTION:Rohdaisten nuorisotila \nEnolankuja 2\, 23950 Pyhäranta
URL:https://www.pyharanta.fi/event/presidentinvaalien-ennakkoaanestys-4/
END:VEVENT
BEGIN:VEVENT
DTSTART;TZID=Europe/Helsinki:20240121T100000
DTEND;TZID=Europe/Helsinki:20240121T140000
DTSTAMP:20260422T173821
CREATED:20240110T103305Z
LAST-MODIFIED:20240110T103305Z
UID:10000132-1705831200-1705845600@www.pyharanta.fi
SUMMARY:Presidentinvaalien ennakkoäänestys
DESCRIPTION:Rohdaisten nuorisotila \nEnolankuja 2\, 23950 Pyhäranta
URL:https://www.pyharanta.fi/event/presidentinvaalien-ennakkoaanestys-5/
END:VEVENT
BEGIN:VEVENT
DTSTART;TZID=Europe/Helsinki:20240122T090000
DTEND;TZID=Europe/Helsinki:20240122T150000
DTSTAMP:20260422T173821
CREATED:20240110T103336Z
LAST-MODIFIED:20240110T103336Z
UID:10000133-1705914000-1705935600@www.pyharanta.fi
SUMMARY:Presidentinvaalien ennakkoäänestys
DESCRIPTION:Rohdaisten nuorisotila \nEnolankuja 2\, 23950 Pyhäranta
URL:https://www.pyharanta.fi/event/presidentinvaalien-ennakkoaanestys-6/
END:VEVENT
BEGIN:VEVENT
DTSTART;TZID=Europe/Helsinki:20240123T090000
DTEND;TZID=Europe/Helsinki:20240123T190000
DTSTAMP:20260422T173821
CREATED:20240110T103402Z
LAST-MODIFIED:20240110T103402Z
UID:10000134-1706000400-1706036400@www.pyharanta.fi
SUMMARY:Presidentinvaalien ennakkoäänestys
DESCRIPTION:Rohdaisten nuorisotila \nEnolankuja 2\, 23950 Pyhäranta
URL:https://www.pyharanta.fi/event/presidentinvaalien-ennakkoaanestys-7/
END:VEVENT
BEGIN:VEVENT
DTSTART;TZID=Europe/Helsinki:20240126T190000
DTEND;TZID=Europe/Helsinki:20240126T210000
DTSTAMP:20260422T173821
CREATED:20240104T151419Z
LAST-MODIFIED:20240104T151419Z
UID:10000121-1706295600-1706302800@www.pyharanta.fi
SUMMARY:MLL Nuokkari
DESCRIPTION:Ihoden nuorisotila\, Ihoden kylätie 27 \nNuokkari tarkoitettu 6-luokkalaisille ja sitä vanhemmille nuorille.
URL:https://www.pyharanta.fi/event/mll-nuokkari/
END:VEVENT
BEGIN:VEVENT
DTSTART;TZID=Europe/Helsinki:20240128T090000
DTEND;TZID=Europe/Helsinki:20240128T200000
DTSTAMP:20260422T173821
CREATED:20240110T103725Z
LAST-MODIFIED:20240110T104734Z
UID:10000135-1706432400-1706472000@www.pyharanta.fi
SUMMARY:Presidentinvaalipäivä
DESCRIPTION:Äänestyspaikat: \nIhoden koulu\, Ihoden kylätie 27\, 27320 Ihode \nReilan koulu\, Eemelintie 6\, 27340 Reila \nRohdaisten koulu\, Rantatie 5\, 23950 Pyhäranta \n  \nVarsinaisena vaalipäivänä äänioikeutettu saa äänestää vain siinä äänestyspaikassa\, joka on merkitty äänioikeusrekisteriin ja äänioikeutetulle ennen vaaleja postitettuun ilmoituskorttiin. Äänestäjien on varauduttava todistamaan henkilöllisyytensä äänestyspaikoilla.
URL:https://www.pyharanta.fi/event/presidentinvaalipaiva/
END:VEVENT
BEGIN:VEVENT
DTSTART;TZID=Europe/Helsinki:20240130T180000
DTEND;TZID=Europe/Helsinki:20240130T200000
DTSTAMP:20260422T173821
CREATED:20240104T150152Z
LAST-MODIFIED:20240104T150152Z
UID:10000110-1706637600-1706644800@www.pyharanta.fi
SUMMARY:Kunnanhallituksen kokous
DESCRIPTION:
URL:https://www.pyharanta.fi/event/kunnanhallituksen-kokous-17/
END:VEVENT
END:VCALENDAR