BEGIN:VCALENDAR
VERSION:2.0
PRODID:-//Pyhäranta - ECPv6.6.2//NONSGML v1.0//EN
CALSCALE:GREGORIAN
METHOD:PUBLISH
X-WR-CALNAME:Pyhäranta
X-ORIGINAL-URL:https://www.pyharanta.fi
X-WR-CALDESC:Events for Pyhäranta
REFRESH-INTERVAL;VALUE=DURATION:PT1H
X-Robots-Tag:noindex
X-PUBLISHED-TTL:PT1H
BEGIN:VTIMEZONE
TZID:Europe/Helsinki
BEGIN:DAYLIGHT
TZOFFSETFROM:+0200
TZOFFSETTO:+0300
TZNAME:EEST
DTSTART:20240331T010000
END:DAYLIGHT
BEGIN:STANDARD
TZOFFSETFROM:+0300
TZOFFSETTO:+0200
TZNAME:EET
DTSTART:20241027T010000
END:STANDARD
END:VTIMEZONE
BEGIN:VEVENT
DTSTART;TZID=Europe/Helsinki:20240206T160000
DTEND;TZID=Europe/Helsinki:20240206T180000
DTSTAMP:20260422T155951
CREATED:20240202T085417Z
LAST-MODIFIED:20240202T085417Z
UID:10000143-1707235200-1707242400@www.pyharanta.fi
SUMMARY:Tarkastuslautakunnan kokous
DESCRIPTION:Teams\, 6.2.2024 klo 16-18
URL:https://www.pyharanta.fi/event/tarkastuslautakunnan-kokous/
END:VEVENT
BEGIN:VEVENT
DTSTART;TZID=Europe/Helsinki:20240208T120000
DTEND;TZID=Europe/Helsinki:20240208T143000
DTSTAMP:20260422T155951
CREATED:20240111T125344Z
LAST-MODIFIED:20240111T125344Z
UID:10000137-1707393600-1707402600@www.pyharanta.fi
SUMMARY:Kaukan kyläkoti; Ikäihmisten päivätoiminta
DESCRIPTION:Ohjelmassa hyvänmielen virkistyshetki\, toteuttajana Ilonhetki Roosa Saine
URL:https://www.pyharanta.fi/event/kaukan-kylakoti-ikaihmisten-paivatoiminta/
END:VEVENT
BEGIN:VEVENT
DTSTART;TZID=Europe/Helsinki:20240213T180000
DTEND;TZID=Europe/Helsinki:20240213T200000
DTSTAMP:20260422T155951
CREATED:20240104T150250Z
LAST-MODIFIED:20240104T150250Z
UID:10000111-1707847200-1707854400@www.pyharanta.fi
SUMMARY:Kunnanhallituksen kokous
DESCRIPTION:
URL:https://www.pyharanta.fi/event/kunnanhallituksen-kokous-18/
END:VEVENT
BEGIN:VEVENT
DTSTART;TZID=Europe/Helsinki:20240226T180000
DTEND;TZID=Europe/Helsinki:20240226T200000
DTSTAMP:20260422T155951
CREATED:20240104T150341Z
LAST-MODIFIED:20240110T083854Z
UID:10000112-1708970400-1708977600@www.pyharanta.fi
SUMMARY:Kunnanhallituksen kokous
DESCRIPTION:
URL:https://www.pyharanta.fi/event/kunnanhallituksen-kokous-19/
END:VEVENT
BEGIN:VEVENT
DTSTART;TZID=Europe/Helsinki:20240227T180000
DTEND;TZID=Europe/Helsinki:20240227T200000
DTSTAMP:20260422T155951
CREATED:20240110T102700Z
LAST-MODIFIED:20240110T102700Z
UID:10000125-1709056800-1709064000@www.pyharanta.fi
SUMMARY:Kunnanvaltuuston kokous
DESCRIPTION:
URL:https://www.pyharanta.fi/event/kunnanvaltuuston-kokous-7/
END:VEVENT
END:VCALENDAR