BEGIN:VCALENDAR
VERSION:2.0
PRODID:-//Pyhäranta - ECPv6.6.2//NONSGML v1.0//EN
CALSCALE:GREGORIAN
METHOD:PUBLISH
X-ORIGINAL-URL:https://www.pyharanta.fi
X-WR-CALDESC:Events for Pyhäranta
REFRESH-INTERVAL;VALUE=DURATION:PT1H
X-Robots-Tag:noindex
X-PUBLISHED-TTL:PT1H
BEGIN:VTIMEZONE
TZID:Europe/Helsinki
BEGIN:DAYLIGHT
TZOFFSETFROM:+0200
TZOFFSETTO:+0300
TZNAME:EEST
DTSTART:20240331T010000
END:DAYLIGHT
BEGIN:STANDARD
TZOFFSETFROM:+0300
TZOFFSETTO:+0200
TZNAME:EET
DTSTART:20241027T010000
END:STANDARD
END:VTIMEZONE
BEGIN:VEVENT
DTSTART;TZID=Europe/Helsinki:20240706T190000
DTEND;TZID=Europe/Helsinki:20240706T230000
DTSTAMP:20260420T062930
CREATED:20240530T115621Z
LAST-MODIFIED:20240530T115621Z
UID:10000192-1720292400-1720306800@www.pyharanta.fi
SUMMARY:Kesätanssit Yliskallion lavalla\, tanssittajana Tanssiorkesteri Amorada
DESCRIPTION:
URL:https://www.pyharanta.fi/event/kesatanssit-yliskallion-lavalla-tanssittajana-tanssiorkesteri-amorada/
END:VEVENT
BEGIN:VEVENT
DTSTART;TZID=Europe/Helsinki:20240714T160246
DTEND;TZID=Europe/Helsinki:20240714T160246
DTSTAMP:20260420T062930
CREATED:20240527T130246Z
LAST-MODIFIED:20240527T130246Z
UID:10000172-1720972966-1720972966@www.pyharanta.fi
SUMMARY:Teatteriyhdistys Fake ry esittää Santtiolla: Viulunsoittaja katolla
DESCRIPTION:
URL:https://www.pyharanta.fi/event/teatteriyhdistys-fake-ry-esittaa-santtiolla-viulunsoittaja-katolla/2024-07-14/1/
CATEGORIES:Kulttuuritapahtumat
END:VEVENT
BEGIN:VEVENT
DTSTART;TZID=Europe/Helsinki:20240714T180000
DTEND;TZID=Europe/Helsinki:20240714T200000
DTSTAMP:20260420T062930
CREATED:20240527T130246Z
LAST-MODIFIED:20240527T130246Z
UID:10000171-1720980000-1720987200@www.pyharanta.fi
SUMMARY:Teatteriyhdistys Fake ry esittää Santtiolla: Viulunsoittaja katolla
DESCRIPTION:
URL:https://www.pyharanta.fi/event/teatteriyhdistys-fake-ry-esittaa-santtiolla-viulunsoittaja-katolla/2024-07-14/2/
CATEGORIES:Kulttuuritapahtumat
END:VEVENT
BEGIN:VEVENT
DTSTART;TZID=Europe/Helsinki:20240715T180000
DTEND;TZID=Europe/Helsinki:20240715T200000
DTSTAMP:20260420T062930
CREATED:20240527T130358Z
LAST-MODIFIED:20240527T130358Z
UID:10000173-1721066400-1721073600@www.pyharanta.fi
SUMMARY:Teatteriyhdistys Fake ry esittää Santtiolla: Viulunsoittaja katolla
DESCRIPTION:
URL:https://www.pyharanta.fi/event/teatteriyhdistys-fake-ry-esittaa-santtiolla-viulunsoittaja-katolla-2/
CATEGORIES:Kulttuuritapahtumat
END:VEVENT
BEGIN:VEVENT
DTSTART;TZID=Europe/Helsinki:20240716T180000
DTEND;TZID=Europe/Helsinki:20240716T200000
DTSTAMP:20260420T062930
CREATED:20240527T130516Z
LAST-MODIFIED:20240527T130516Z
UID:10000174-1721152800-1721160000@www.pyharanta.fi
SUMMARY:Teatteriyhdistys Fake ry esittää Santtiolla: Viulunsoittaja katolla
DESCRIPTION:
URL:https://www.pyharanta.fi/event/teatteriyhdistys-fake-ry-esittaa-santtiolla-viulunsoittaja-katolla-3/
CATEGORIES:Kulttuuritapahtumat
END:VEVENT
BEGIN:VEVENT
DTSTART;TZID=Europe/Helsinki:20240718T180000
DTEND;TZID=Europe/Helsinki:20240718T200000
DTSTAMP:20260420T062930
CREATED:20240527T130623Z
LAST-MODIFIED:20240527T130623Z
UID:10000175-1721325600-1721332800@www.pyharanta.fi
SUMMARY:Teatteriyhdistys Fake ry esittää Santtiolla: Viulunsoittaja katolla
DESCRIPTION:
URL:https://www.pyharanta.fi/event/teatteriyhdistys-fake-ry-esittaa-santtiolla-viulunsoittaja-katolla-4/
CATEGORIES:Kulttuuritapahtumat
END:VEVENT
BEGIN:VEVENT
DTSTART;TZID=Europe/Helsinki:20240719T180000
DTEND;TZID=Europe/Helsinki:20240719T200000
DTSTAMP:20260420T062930
CREATED:20240527T130738Z
LAST-MODIFIED:20240527T130738Z
UID:10000176-1721412000-1721419200@www.pyharanta.fi
SUMMARY:Teatteriyhdistys Fake ry esittää Santtiolla: Viulunsoittaja katolla
DESCRIPTION:
URL:https://www.pyharanta.fi/event/teatteriyhdistys-fake-ry-esittaa-santtiolla-viulunsoittaja-katolla-5/
CATEGORIES:Kulttuuritapahtumat
END:VEVENT
BEGIN:VEVENT
DTSTART;TZID=Europe/Helsinki:20240720T160000
DTEND;TZID=Europe/Helsinki:20240720T173000
DTSTAMP:20260420T062930
CREATED:20240704T082604Z
LAST-MODIFIED:20240704T082604Z
UID:10000207-1721491200-1721496600@www.pyharanta.fi
SUMMARY:Laulujen pihapuu – Oodeja suomalaisille puille
DESCRIPTION:LA 20.07.2024\nKlo: 16.00 – 17.30\nPaikka: Hannula\, Pyhäranta\n\n\nSuomalaisten puusuhde juontaa juurensa maamme luontaisesta metsäisestä ympäristöstä ja vuosisatojen takaisista perinteistä. Puut ovat erottamaton osa suomalaisuuden arkea ja juhlaa\, elämäntapaa ja kulttuuria. Siksi haluamme laulaa oodeja puille! \nEsiintyjät:\nEssi Luttinen\, Laura Nykänen\, Sami Luttinen – laulu;\nMarkus Ollila – piano;\nRauno Luttinen – lausunta;\nSauli Luttinen – juonto; \n\n\n\n\n\nHannulan pihapiirin kesäkonsertti
URL:https://www.pyharanta.fi/event/laulujen-pihapuu-oodeja-suomalaisille-puille/
LOCATION:Rantatie 1131\, 27340 Reila\, Pyhäranta
END:VEVENT
BEGIN:VEVENT
DTSTART;TZID=Europe/Helsinki:20240721T150000
DTEND;TZID=Europe/Helsinki:20240721T170000
DTSTAMP:20260420T062930
CREATED:20240527T130847Z
LAST-MODIFIED:20240527T130847Z
UID:10000177-1721574000-1721581200@www.pyharanta.fi
SUMMARY:Teatteriyhdistys Fake ry esittää Santtiolla: Viulunsoittaja katolla
DESCRIPTION:
URL:https://www.pyharanta.fi/event/teatteriyhdistys-fake-ry-esittaa-santtiolla-viulunsoittaja-katolla-6/
CATEGORIES:Kulttuuritapahtumat
END:VEVENT
BEGIN:VEVENT
DTSTART;TZID=Europe/Helsinki:20240723T160000
DTEND;TZID=Europe/Helsinki:20240723T173000
DTSTAMP:20260420T062930
CREATED:20240705T124201Z
LAST-MODIFIED:20240705T124201Z
UID:10000225-1721750400-1721755800@www.pyharanta.fi
SUMMARY:Attendo Onnenkarin pihakonsertti
DESCRIPTION:Attendo Onnenkarin pihakonsertti asukkaille ja heidän omaisilleen \nJärjestäjinä: Jazzkukko yhteistyössä Pyhärannan kunnan kanssa \n  \nOhjelma: \nKARI ANTILA & FRANK CARLBERG DUO \nKari Antila\, kitara ja laulu \nFrank Carlberg\, piano \n  \nSäävaraus\, sateella sisätiloissa.
URL:https://www.pyharanta.fi/event/attendo-onnenkarin-pihakonsertti/
END:VEVENT
BEGIN:VEVENT
DTSTART;TZID=Europe/Helsinki:20240724T180000
DTEND;TZID=Europe/Helsinki:20240724T200000
DTSTAMP:20260420T062930
CREATED:20240527T131025Z
LAST-MODIFIED:20240527T131025Z
UID:10000178-1721844000-1721851200@www.pyharanta.fi
SUMMARY:Teatteriyhdistys Fake ry esittää Santtiolla: Viulunsoittaja katolla
DESCRIPTION:
URL:https://www.pyharanta.fi/event/teatteriyhdistys-fake-ry-esittaa-santtiolla-viulunsoittaja-katolla-7/
CATEGORIES:Kulttuuritapahtumat
END:VEVENT
BEGIN:VEVENT
DTSTART;TZID=Europe/Helsinki:20240725T180000
DTEND;TZID=Europe/Helsinki:20240725T200000
DTSTAMP:20260420T062930
CREATED:20240527T131131Z
LAST-MODIFIED:20240527T131131Z
UID:10000179-1721930400-1721937600@www.pyharanta.fi
SUMMARY:Teatteriyhdistys Fake ry esittää Santtiolla: Viulunsoittaja katolla
DESCRIPTION:
URL:https://www.pyharanta.fi/event/teatteriyhdistys-fake-ry-esittaa-santtiolla-viulunsoittaja-katolla-8/
CATEGORIES:Kulttuuritapahtumat
END:VEVENT
BEGIN:VEVENT
DTSTART;TZID=Europe/Helsinki:20240727T190000
DTEND;TZID=Europe/Helsinki:20240727T230000
DTSTAMP:20260420T062930
CREATED:20240530T115918Z
LAST-MODIFIED:20240530T120007Z
UID:10000193-1722106800-1722121200@www.pyharanta.fi
SUMMARY:Kesätanssit Yliskallion lavalla\, tanssittajana Pekka Rinne & Kuunsilta
DESCRIPTION:
URL:https://www.pyharanta.fi/event/kesatanssit-yliskallion-lavalla-tanssittajana-pekka-rinne-kuunsilta/
END:VEVENT
BEGIN:VEVENT
DTSTART;TZID=Europe/Helsinki:20240728T150000
DTEND;TZID=Europe/Helsinki:20240728T170000
DTSTAMP:20260420T062930
CREATED:20240527T131429Z
LAST-MODIFIED:20240527T131429Z
UID:10000181-1722178800-1722186000@www.pyharanta.fi
SUMMARY:Teatteriyhdistys Fake ry esittää Santtiolla: Viulunsoittaja katolla
DESCRIPTION:
URL:https://www.pyharanta.fi/event/teatteriyhdistys-fake-ry-esittaa-santtiolla-viulunsoittaja-katolla-10/
CATEGORIES:Kulttuuritapahtumat
END:VEVENT
BEGIN:VEVENT
DTSTART;TZID=Europe/Helsinki:20240729T180000
DTEND;TZID=Europe/Helsinki:20240729T200000
DTSTAMP:20260420T062930
CREATED:20240527T131551Z
LAST-MODIFIED:20240527T131551Z
UID:10000182-1722276000-1722283200@www.pyharanta.fi
SUMMARY:Teatteriyhdistys Fake ry esittää Santtiolla: Viulunsoittaja katolla
DESCRIPTION:
URL:https://www.pyharanta.fi/event/teatteriyhdistys-fake-ry-esittaa-santtiolla-viulunsoittaja-katolla-11/
CATEGORIES:Kulttuuritapahtumat
END:VEVENT
END:VCALENDAR