BEGIN:VCALENDAR
VERSION:2.0
PRODID:-//Pyhäranta - ECPv6.6.2//NONSGML v1.0//EN
CALSCALE:GREGORIAN
METHOD:PUBLISH
X-ORIGINAL-URL:https://www.pyharanta.fi
X-WR-CALDESC:Events for Pyhäranta
REFRESH-INTERVAL;VALUE=DURATION:PT1H
X-Robots-Tag:noindex
X-PUBLISHED-TTL:PT1H
BEGIN:VTIMEZONE
TZID:Europe/Helsinki
BEGIN:DAYLIGHT
TZOFFSETFROM:+0200
TZOFFSETTO:+0300
TZNAME:EEST
DTSTART:20240331T010000
END:DAYLIGHT
BEGIN:STANDARD
TZOFFSETFROM:+0300
TZOFFSETTO:+0200
TZNAME:EET
DTSTART:20241027T010000
END:STANDARD
END:VTIMEZONE
BEGIN:VEVENT
DTSTART;TZID=Europe/Helsinki:20240910T180000
DTEND;TZID=Europe/Helsinki:20240910T200000
DTSTAMP:20260420T032739
CREATED:20240704T092222Z
LAST-MODIFIED:20240704T092222Z
UID:10000211-1725991200-1725998400@www.pyharanta.fi
SUMMARY:Kunnanhallituksen kokous
DESCRIPTION:
URL:https://www.pyharanta.fi/event/kunnanhallituksen-kokous-31/
END:VEVENT
BEGIN:VEVENT
DTSTART;TZID=Europe/Helsinki:20240912T120000
DTEND;TZID=Europe/Helsinki:20240912T143000
DTSTAMP:20260420T032739
CREATED:20240516T122445Z
LAST-MODIFIED:20240815T063445Z
UID:10000160-1726142400-1726151400@www.pyharanta.fi
SUMMARY:Kaukan kyläkodin palvelupäivä
DESCRIPTION:Kirjastotoiminta ja lukeminen elävät ajassa\, Marja-Liisa Mutka. \nOhjelmassa myös Sirpan bingo.
URL:https://www.pyharanta.fi/event/kaukan-kylakodin-palvelupaiva/
END:VEVENT
BEGIN:VEVENT
DTSTART;TZID=Europe/Helsinki:20240917T130000
DTEND;TZID=Europe/Helsinki:20240917T150000
DTSTAMP:20260420T032739
CREATED:20240704T093054Z
LAST-MODIFIED:20240704T093054Z
UID:10000223-1726578000-1726585200@www.pyharanta.fi
SUMMARY:Vanhusneuvoston kokous
DESCRIPTION:
URL:https://www.pyharanta.fi/event/vanhusneuvoston-kokous-4/
END:VEVENT
BEGIN:VEVENT
DTSTART;TZID=Europe/Helsinki:20240917T170000
DTEND;TZID=Europe/Helsinki:20240917T200000
DTSTAMP:20260420T032739
CREATED:20240822T055352Z
LAST-MODIFIED:20240905T084616Z
UID:10000230-1726592400-1726603200@www.pyharanta.fi
SUMMARY:Tarkastuslautakunnan kokous
DESCRIPTION:
URL:https://www.pyharanta.fi/event/tarkastuslautakunnan-kokous-6/
END:VEVENT
BEGIN:VEVENT
DTSTART;TZID=Europe/Helsinki:20240919T180000
DTEND;TZID=Europe/Helsinki:20240919T200000
DTSTAMP:20260420T032739
CREATED:20240821T064657Z
LAST-MODIFIED:20240821T064657Z
UID:10000227-1726768800-1726776000@www.pyharanta.fi
SUMMARY:Teknisen lautakunnan kokous
DESCRIPTION:
URL:https://www.pyharanta.fi/event/teknisen-lautakunnan-kokous-5/
END:VEVENT
BEGIN:VEVENT
DTSTART;TZID=Europe/Helsinki:20240923T180000
DTEND;TZID=Europe/Helsinki:20240923T200000
DTSTAMP:20260420T032739
CREATED:20240905T084838Z
LAST-MODIFIED:20240905T084838Z
UID:10000231-1727114400-1727121600@www.pyharanta.fi
SUMMARY:Ympäristö- ja lupalautakunnan kokous
DESCRIPTION:
URL:https://www.pyharanta.fi/event/ymparisto-ja-lupalautakunnan-kokous/
END:VEVENT
BEGIN:VEVENT
DTSTART;TZID=Europe/Helsinki:20240924T180000
DTEND;TZID=Europe/Helsinki:20240924T200000
DTSTAMP:20260420T032739
CREATED:20240704T092257Z
LAST-MODIFIED:20240704T092257Z
UID:10000212-1727200800-1727208000@www.pyharanta.fi
SUMMARY:Kunnanhallituksen kokous
DESCRIPTION:
URL:https://www.pyharanta.fi/event/kunnanhallituksen-kokous-32/
END:VEVENT
BEGIN:VEVENT
DTSTART;TZID=Europe/Helsinki:20240925T180000
DTEND;TZID=Europe/Helsinki:20240925T200000
DTSTAMP:20260420T032739
CREATED:20240524T110544Z
LAST-MODIFIED:20240524T110544Z
UID:10000164-1727287200-1727294400@www.pyharanta.fi
SUMMARY:Sivistyslautakunnan kokous
DESCRIPTION:
URL:https://www.pyharanta.fi/event/sivistyslautakunnan-kokous/
END:VEVENT
BEGIN:VEVENT
DTSTART;TZID=Europe/Helsinki:20240925T180000
DTEND;TZID=Europe/Helsinki:20240925T200000
DTSTAMP:20260420T032739
CREATED:20240528T084247Z
LAST-MODIFIED:20240827T112750Z
UID:10000187-1727287200-1727294400@www.pyharanta.fi
SUMMARY:Kuntalaisilta Santtion Mainingissa\, teemana rantakaava ja asuminen
DESCRIPTION:
URL:https://www.pyharanta.fi/event/kuntalaisilta-santtion-mainingissa-teemana-rantakaava-ja-asuminen/
CATEGORIES:Tapahtumakalenteri
END:VEVENT
BEGIN:VEVENT
DTSTART;TZID=Europe/Helsinki:20240928T100000
DTEND;TZID=Europe/Helsinki:20240928T130000
DTSTAMP:20260420T032739
CREATED:20240704T083836Z
LAST-MODIFIED:20240704T083916Z
UID:10000208-1727517600-1727528400@www.pyharanta.fi
SUMMARY:Ihoden kylätori
DESCRIPTION:Lions Club Pyhärannan tapahtuma järjestetään perinteisesti Ihoden koululla\nLA 28.09.2024 klo 10-13 \nTorialuemyyjille tiedoksi: Paikkatiedustelut/varaukset textarilla 0405075055 (Taija); 0503547368 (Elise).
URL:https://www.pyharanta.fi/event/ihoden-kylatori/
END:VEVENT
END:VCALENDAR