BEGIN:VCALENDAR
VERSION:2.0
PRODID:-//Pyhäranta - ECPv6.6.2//NONSGML v1.0//EN
CALSCALE:GREGORIAN
METHOD:PUBLISH
X-ORIGINAL-URL:https://www.pyharanta.fi
X-WR-CALDESC:Events for Pyhäranta
REFRESH-INTERVAL;VALUE=DURATION:PT1H
X-Robots-Tag:noindex
X-PUBLISHED-TTL:PT1H
BEGIN:VTIMEZONE
TZID:Europe/Helsinki
BEGIN:DAYLIGHT
TZOFFSETFROM:+0200
TZOFFSETTO:+0300
TZNAME:EEST
DTSTART:20240331T010000
END:DAYLIGHT
BEGIN:STANDARD
TZOFFSETFROM:+0300
TZOFFSETTO:+0200
TZNAME:EET
DTSTART:20241027T010000
END:STANDARD
END:VTIMEZONE
BEGIN:VEVENT
DTSTART;TZID=Europe/Helsinki:20241003T180000
DTEND;TZID=Europe/Helsinki:20241003T200000
DTSTAMP:20260420T015855
CREATED:20240528T084706Z
LAST-MODIFIED:20240528T084706Z
UID:10000188-1727978400-1727985600@www.pyharanta.fi
SUMMARY:Kuntalaisilta Ihoden koulussa\, teemana elinkeinopolitiikka
DESCRIPTION:
URL:https://www.pyharanta.fi/event/kuntalaisilta-ihoden-koulussa-teemana-elinkeinopolitiikka/
CATEGORIES:Tapahtumakalenteri
END:VEVENT
BEGIN:VEVENT
DTSTART;TZID=Europe/Helsinki:20241008T180000
DTEND;TZID=Europe/Helsinki:20241008T200000
DTSTAMP:20260420T015855
CREATED:20240704T092330Z
LAST-MODIFIED:20240704T092330Z
UID:10000213-1728410400-1728417600@www.pyharanta.fi
SUMMARY:Kunnanhallituksen kokous
DESCRIPTION:
URL:https://www.pyharanta.fi/event/kunnanhallituksen-kokous-33/
END:VEVENT
BEGIN:VEVENT
DTSTART;TZID=Europe/Helsinki:20241010T110000
DTEND;TZID=Europe/Helsinki:20241010T143000
DTSTAMP:20260420T015855
CREATED:20240809T100529Z
LAST-MODIFIED:20240819T125510Z
UID:10000226-1728558000-1728570600@www.pyharanta.fi
SUMMARY:Ikäjuhla 10.10.2024
DESCRIPTION:OHJELMA\nTilaisuuden puheenjohtajana toimii Mirja Kauppila-Laine \n11.00-12.00 Ruokatarjoilu \n12.00-12.15 Tervetuloa ja osallisuus Varhalla \n12.15-13.00 Voimaa ja puhtia ruuasta – monipuolinen ravitsemus jaksamisen ja toimintakyvyn tukena ikääntyessä. \n13.00-13.20 Kuviolausuntakuoro Häpläperän Valittajat \n13.20-13.45 Kahvitarjoilu \n13.45-14.00 Potilasasiavastaavan puheenvuoro \n14.00-14.30 Keskustelua ja tilaisuuden päätös \nVarsinais Suomen hyvinvointialueen vanhusneuvosto kiertää Varsinais-Suomen alueen kunnissa.\nTule tapaamaan meitä vanhusneuvoston jäseniä ja hyvinvointialueemme ammattilaisia. \nTarjolla on ajankohtaista asiaa\, saatavilla olevista palveluistamme\, hyödyllisiä vinkkejä hyvinvointiisi ja tietoa omista vaikuttamismahdollisuuksistasi hyvinvointialueellamme. \nTapahtuman järjestävät Pyhärannan kunta\, seurakunta\, vanhusneuvosto\, Eläkeläisten yhdistys ja Martat\, Turun Lähimmäispalveluyhdistyksen Liikkuva Resurssikeskus\, Gery ry sekä Varhan vanhusneuvosto. \nLämpimästi tervetuloa! \n  \nLisätietoa: Minna Pohjola\, minna.johanna.pohjola@varha.fi
URL:https://www.pyharanta.fi/event/ikajuhla-10-10-2024/
ATTACH;FMTTYPE=image/jpeg:https://www.pyharanta.fi/wp-content/uploads/2024/08/10.10.2024.jpg
END:VEVENT
BEGIN:VEVENT
DTSTART;TZID=Europe/Helsinki:20241015T180000
DTEND;TZID=Europe/Helsinki:20241015T200000
DTSTAMP:20260420T015855
CREATED:20240821T070247Z
LAST-MODIFIED:20240920T115935Z
UID:10000228-1729015200-1729022400@www.pyharanta.fi
SUMMARY:Teknisen lautakunnan kokous
DESCRIPTION:
URL:https://www.pyharanta.fi/event/teknisen-lautakunnan-kokous-6/
END:VEVENT
BEGIN:VEVENT
DTSTART;TZID=Europe/Helsinki:20241022T180000
DTEND;TZID=Europe/Helsinki:20241022T200000
DTSTAMP:20260420T015855
CREATED:20240704T092410Z
LAST-MODIFIED:20240704T092410Z
UID:10000214-1729620000-1729627200@www.pyharanta.fi
SUMMARY:Kunnanhallituksen kokous
DESCRIPTION:
URL:https://www.pyharanta.fi/event/kunnanhallituksen-kokous-34/
END:VEVENT
BEGIN:VEVENT
DTSTART;TZID=Europe/Helsinki:20241028T180000
DTEND;TZID=Europe/Helsinki:20241028T200000
DTSTAMP:20260420T015855
CREATED:20241016T082225Z
LAST-MODIFIED:20241016T093241Z
UID:10000233-1730138400-1730145600@www.pyharanta.fi
SUMMARY:Teknisen lautakunnan kokous
DESCRIPTION:
URL:https://www.pyharanta.fi/event/ymparisto-ja-lupalautakunnan-kokous-klo-18-00/
CATEGORIES:Tapahtumakalenteri
END:VEVENT
END:VCALENDAR