BEGIN:VCALENDAR
VERSION:2.0
PRODID:-//Pyhäranta - ECPv6.6.2//NONSGML v1.0//EN
CALSCALE:GREGORIAN
METHOD:PUBLISH
X-ORIGINAL-URL:https://www.pyharanta.fi
X-WR-CALDESC:Events for Pyhäranta
REFRESH-INTERVAL;VALUE=DURATION:PT1H
X-Robots-Tag:noindex
X-PUBLISHED-TTL:PT1H
BEGIN:VTIMEZONE
TZID:Europe/Helsinki
BEGIN:DAYLIGHT
TZOFFSETFROM:+0200
TZOFFSETTO:+0300
TZNAME:EEST
DTSTART:20250330T010000
END:DAYLIGHT
BEGIN:STANDARD
TZOFFSETFROM:+0300
TZOFFSETTO:+0200
TZNAME:EET
DTSTART:20251026T010000
END:STANDARD
END:VTIMEZONE
BEGIN:VEVENT
DTSTART;TZID=Europe/Helsinki:20250306T130000
DTEND;TZID=Europe/Helsinki:20250306T150000
DTSTAMP:20260419T183257
CREATED:20250124T125123Z
LAST-MODIFIED:20250124T125123Z
UID:10000245-1741266000-1741273200@www.pyharanta.fi
SUMMARY:Vanhusneuvoston kokous
DESCRIPTION:
URL:https://www.pyharanta.fi/event/vanhusneuvoston-kokous-6/
END:VEVENT
BEGIN:VEVENT
DTSTART;TZID=Europe/Helsinki:20250306T180000
DTEND;TZID=Europe/Helsinki:20250306T200000
DTSTAMP:20260419T183257
CREATED:20250124T124925Z
LAST-MODIFIED:20250127T085018Z
UID:10000244-1741284000-1741291200@www.pyharanta.fi
SUMMARY:Teknisen lautakunnan kokous
DESCRIPTION:
URL:https://www.pyharanta.fi/event/teknisen-lautakunnan-kokous-8/
END:VEVENT
BEGIN:VEVENT
DTSTART;TZID=Europe/Helsinki:20250311T180000
DTEND;TZID=Europe/Helsinki:20250311T200000
DTSTAMP:20260419T183257
CREATED:20250124T125224Z
LAST-MODIFIED:20250124T125224Z
UID:10000246-1741716000-1741723200@www.pyharanta.fi
SUMMARY:Kunnanhallituksen kokous
DESCRIPTION:
URL:https://www.pyharanta.fi/event/kunnanhallituksen-kokous-40/
END:VEVENT
BEGIN:VEVENT
DTSTART;TZID=Europe/Helsinki:20250313T120000
DTEND;TZID=Europe/Helsinki:20250313T143000
DTSTAMP:20260419T183257
CREATED:20250124T123534Z
LAST-MODIFIED:20250124T123534Z
UID:10000237-1741867200-1741876200@www.pyharanta.fi
SUMMARY:Kaukan kyläkoti ikäihmisten päivätoiminta
DESCRIPTION:Erikoishammasteknikko Tuula Mohtaschemi kertoo ikäihmisten suun terveydestä.
URL:https://www.pyharanta.fi/event/kaukan-kylakoti-ikaihmisten-paivatoiminta-6/
END:VEVENT
BEGIN:VEVENT
DTSTART;TZID=Europe/Helsinki:20250319T180000
DTEND;TZID=Europe/Helsinki:20250319T200000
DTSTAMP:20260419T183257
CREATED:20250124T125345Z
LAST-MODIFIED:20250124T125345Z
UID:10000247-1742407200-1742414400@www.pyharanta.fi
SUMMARY:Sivistyslautakunnan kokous
DESCRIPTION:
URL:https://www.pyharanta.fi/event/sivistyslautakunnan-kokous-5/
END:VEVENT
BEGIN:VEVENT
DTSTART;TZID=Europe/Helsinki:20250325T180000
DTEND;TZID=Europe/Helsinki:20250325T200000
DTSTAMP:20260419T183257
CREATED:20250124T125424Z
LAST-MODIFIED:20250124T125424Z
UID:10000248-1742925600-1742932800@www.pyharanta.fi
SUMMARY:Kunnanhallituksen kokous
DESCRIPTION:
URL:https://www.pyharanta.fi/event/kunnanhallituksen-kokous-41/
END:VEVENT
END:VCALENDAR