BEGIN:VCALENDAR
VERSION:2.0
PRODID:-//Pyhäranta - ECPv6.6.2//NONSGML v1.0//EN
CALSCALE:GREGORIAN
METHOD:PUBLISH
X-ORIGINAL-URL:https://www.pyharanta.fi
X-WR-CALDESC:Events for Pyhäranta
REFRESH-INTERVAL;VALUE=DURATION:PT1H
X-Robots-Tag:noindex
X-PUBLISHED-TTL:PT1H
BEGIN:VTIMEZONE
TZID:Europe/Helsinki
BEGIN:DAYLIGHT
TZOFFSETFROM:+0200
TZOFFSETTO:+0300
TZNAME:EEST
DTSTART:20250330T010000
END:DAYLIGHT
BEGIN:STANDARD
TZOFFSETFROM:+0300
TZOFFSETTO:+0200
TZNAME:EET
DTSTART:20251026T010000
END:STANDARD
END:VTIMEZONE
BEGIN:VEVENT
DTSTART;TZID=Europe/Helsinki:20250408T180000
DTEND;TZID=Europe/Helsinki:20250408T200000
DTSTAMP:20260419T170833
CREATED:20250124T130333Z
LAST-MODIFIED:20250404T070239Z
UID:10000251-1744135200-1744142400@www.pyharanta.fi
SUMMARY:Kunnanvaltuuston kokous
DESCRIPTION:
URL:https://www.pyharanta.fi/event/kunnanhallituksen-kokous-42/
END:VEVENT
BEGIN:VEVENT
DTSTART;TZID=Europe/Helsinki:20250409T180000
DTEND;TZID=Europe/Helsinki:20250409T193000
DTSTAMP:20260419T170833
CREATED:20250406T083701Z
LAST-MODIFIED:20250409T055247Z
UID:10000264-1744221600-1744227000@www.pyharanta.fi
SUMMARY:Pyhärannan kuntavaalien vaalipaneeli\, Maininki-talo
DESCRIPTION:Tervetuloa seuraamaan Pyhärannan kuntavaalien vaalipaneelia Maininki-taloon keskiviikkona 9.4.\nVaalipaneeli alkaa klo 18\, arvioitu kesto n. 1\,5 h \nPaikka: Maininki-talo\, Palokuja 6\, 23960 Santtio \nTämänhetkiset vaalipaneelin osallistujat:  \nPerussuomalaiset\, Janne Lehtinen\nKansallinen Kokoomus\, Jani Seikkula\nSuomen Keskusta\, Jari Heikkilä\nSDP\, Elsi Lehto\nYhteinen Pyhäranta\, Lauri Juhola \nVarmistuu tapahtumapäivänä:\nLiike Nyt\nVapauden Liitto \nVaalipaneelin juontaa Esa Urhonen.  Kuntalaiset ovat tervetulleita paikan päälle. Tarjolla kahvia ja mehua. \nTapahtuma taltioidaan live-stream-lähetyksenä YouTubessa. \nJärjestäjä: Pyhärannan kunta
URL:https://www.pyharanta.fi/event/pyharannan-kuntavaalien-vaalipaneeli-2025/
CATEGORIES:Tapahtumakalenteri
END:VEVENT
BEGIN:VEVENT
DTSTART;TZID=Europe/Helsinki:20250410T120000
DTEND;TZID=Europe/Helsinki:20250410T143000
DTSTAMP:20260419T170833
CREATED:20250124T123708Z
LAST-MODIFIED:20250124T123708Z
UID:10000238-1744286400-1744295400@www.pyharanta.fi
SUMMARY:Kaukan kyläkoti ikäihmisten päivätoiminta
DESCRIPTION:Aiheena lääketurvallisuus
URL:https://www.pyharanta.fi/event/kaukan-kylakoti-ikaihmisten-paivatoiminta-7/
END:VEVENT
BEGIN:VEVENT
DTSTART;TZID=Europe/Helsinki:20250411T190000
DTEND;TZID=Europe/Helsinki:20250411T210000
DTSTAMP:20260419T170833
CREATED:20250408T091551Z
LAST-MODIFIED:20250408T091551Z
UID:10000266-1744398000-1744405200@www.pyharanta.fi
SUMMARY:Keskusvaalilautakunnan kokous
DESCRIPTION:
URL:https://www.pyharanta.fi/event/keskusvaalilautakunnan-kokous/
END:VEVENT
BEGIN:VEVENT
DTSTART;TZID=Europe/Helsinki:20250413T080000
DTEND;TZID=Europe/Helsinki:20250413T200000
DTSTAMP:20260419T170833
CREATED:20250124T130532Z
LAST-MODIFIED:20250124T130532Z
UID:10000252-1744531200-1744574400@www.pyharanta.fi
SUMMARY:Alue- ja kuntavaalit\, varsinainen vaalipäivä
DESCRIPTION:
URL:https://www.pyharanta.fi/event/alue-ja-kuntavaalit-varsinainen-vaalipaiva/
END:VEVENT
BEGIN:VEVENT
DTSTART;TZID=Europe/Helsinki:20250415T170000
DTEND;TZID=Europe/Helsinki:20250415T190000
DTSTAMP:20260419T170833
CREATED:20250409T135657Z
LAST-MODIFIED:20250409T135657Z
UID:10000267-1744736400-1744743600@www.pyharanta.fi
SUMMARY:Tarkastuslautakunnan kokous
DESCRIPTION:
URL:https://www.pyharanta.fi/event/tarkastuslautakunnan-kokous-7/
END:VEVENT
BEGIN:VEVENT
DTSTART;TZID=Europe/Helsinki:20250415T180000
DTEND;TZID=Europe/Helsinki:20250415T200000
DTSTAMP:20260419T170833
CREATED:20250124T130645Z
LAST-MODIFIED:20250408T064420Z
UID:10000253-1744740000-1744747200@www.pyharanta.fi
SUMMARY:Kunnanhallituksen kokous
DESCRIPTION:
URL:https://www.pyharanta.fi/event/kunnanhallituksen-kokous-43/
END:VEVENT
BEGIN:VEVENT
DTSTART;TZID=Europe/Helsinki:20250419T100000
DTEND;TZID=Europe/Helsinki:20250419T113000
DTSTAMP:20260419T170833
CREATED:20250411T083547Z
LAST-MODIFIED:20250411T083716Z
UID:10000269-1745056800-1745062200@www.pyharanta.fi
SUMMARY:MLL pääsiäisliikkari\, Rohdainen
DESCRIPTION:Liikuntakerho kaikenikäisille Rohdaisten koulun liikuntasalissa.\nTällä kertaa poikkeuksellisesti lauantaina – mukana pääsiäisyllätyksiä!\nRantatie 5\, 23950 Pyhäranta\nVapaa pääsy! \nLue lisää MLL:n toiminnasta\nhttps://pyharanta.mll.fi/toiminta/
URL:https://www.pyharanta.fi/event/mll-paasiaisliikkari-rohdainen/
LOCATION:Rantatie 5\, Rohdaisten koulu
CATEGORIES:Harrastuskalenteri,Tapahtumakalenteri
END:VEVENT
BEGIN:VEVENT
DTSTART;TZID=Europe/Helsinki:20250423T180000
DTEND;TZID=Europe/Helsinki:20250423T200000
DTSTAMP:20260419T170833
CREATED:20250124T130839Z
LAST-MODIFIED:20250124T130839Z
UID:10000254-1745431200-1745438400@www.pyharanta.fi
SUMMARY:Sivistyslautakunnan kokous
DESCRIPTION:
URL:https://www.pyharanta.fi/event/sivistyslautakunnan-kokous-6/
END:VEVENT
BEGIN:VEVENT
DTSTART;TZID=Europe/Helsinki:20250424T180000
DTEND;TZID=Europe/Helsinki:20250424T200000
DTSTAMP:20260419T170833
CREATED:20250124T131113Z
LAST-MODIFIED:20250124T131113Z
UID:10000255-1745517600-1745524800@www.pyharanta.fi
SUMMARY:Teknisen lautakunnan kokous
DESCRIPTION:
URL:https://www.pyharanta.fi/event/teknisen-lautakunnan-kokous-10/
END:VEVENT
BEGIN:VEVENT
DTSTART;TZID=Europe/Helsinki:20250427T100000
DTEND;TZID=Europe/Helsinki:20250427T113000
DTSTAMP:20260419T170833
CREATED:20250411T083707Z
LAST-MODIFIED:20250411T084131Z
UID:10000270-1745748000-1745753400@www.pyharanta.fi
SUMMARY:MLL vappuliikkari\, Rohdainen
DESCRIPTION:Liikuntakerho kaikenikäisille Rohdaisten koulun liikuntasalissa.\nKevään viimeistä Rohdaisten liikuntakerhoa vietetään vapputunnelmissa. Pukeudu halutessasi naamiaisasuun! \nVapaa pääsy!\nRantatie 5\, 23950 Pyhäranta \nLue lisää MLL:n toiminnasta:\nhttps://pyharanta.mll.fi/toiminta/
URL:https://www.pyharanta.fi/event/mll-vappuliikkari-rohdainen/
LOCATION:Rantatie 5\, Rohdaisten koulu
CATEGORIES:Harrastuskalenteri,Tapahtumakalenteri
END:VEVENT
BEGIN:VEVENT
DTSTART;TZID=Europe/Helsinki:20250429T170000
DTEND;TZID=Europe/Helsinki:20250429T190000
DTSTAMP:20260419T170833
CREATED:20250417T054117Z
LAST-MODIFIED:20250417T054117Z
UID:10000334-1745946000-1745953200@www.pyharanta.fi
SUMMARY:Tarkastuslautakunnan kokous
DESCRIPTION:
URL:https://www.pyharanta.fi/event/tarkastuslautakunnan-kokous-8/
END:VEVENT
BEGIN:VEVENT
DTSTART;TZID=Europe/Helsinki:20250429T180000
DTEND;TZID=Europe/Helsinki:20250429T200000
DTSTAMP:20260419T170833
CREATED:20250422T113648Z
LAST-MODIFIED:20250422T113648Z
UID:10000335-1745949600-1745956800@www.pyharanta.fi
SUMMARY:Laitila-Pyhäranta 4H sääntömääräinen kokous
DESCRIPTION:Paikka: Nälkloukka\, Kaukanraitti 24 23950 Pyhäranta
URL:https://www.pyharanta.fi/event/laitila-pyharanta-4h-saantomaarainen-kokous/
END:VEVENT
END:VCALENDAR