BEGIN:VCALENDAR
VERSION:2.0
PRODID:-//Pyhäranta - ECPv6.6.2//NONSGML v1.0//EN
CALSCALE:GREGORIAN
METHOD:PUBLISH
X-ORIGINAL-URL:https://www.pyharanta.fi
X-WR-CALDESC:Events for Pyhäranta
REFRESH-INTERVAL;VALUE=DURATION:PT1H
X-Robots-Tag:noindex
X-PUBLISHED-TTL:PT1H
BEGIN:VTIMEZONE
TZID:Europe/Helsinki
BEGIN:DAYLIGHT
TZOFFSETFROM:+0200
TZOFFSETTO:+0300
TZNAME:EEST
DTSTART:20260329T010000
END:DAYLIGHT
BEGIN:STANDARD
TZOFFSETFROM:+0300
TZOFFSETTO:+0200
TZNAME:EET
DTSTART:20261025T010000
END:STANDARD
END:VTIMEZONE
BEGIN:VEVENT
DTSTART;TZID=Europe/Helsinki:20260505T190000
DTEND;TZID=Europe/Helsinki:20260505T210000
DTSTAMP:20260424T195740
CREATED:20260424T111025Z
LAST-MODIFIED:20260424T111025Z
UID:10000399-1778007600-1778014800@www.pyharanta.fi
SUMMARY:Kevätkonsertti Ihoden koulussa
DESCRIPTION:Vakka-Suomen musiikkiopisto järjestää Kevätkonsertin Ihodessa tiistaina 5. toukokuuta 2026 klo 19.00 Ihoden koulun ruokalassa (Ihoden kylätie 27). Illan aikana lavalle nousee joukko musiikkiopiston oppilaita\, ja esiintyjinä kuullaan muun muassa Elvira Kaavin pianisteja. Konsertti tarjoaa monipuolisen kattauksen keväisiä säveliä.\nKonserttiin on vapaa pääsy ja käsiohjelma on maksuton!
URL:https://www.pyharanta.fi/event/kevatkonsertti-ihoden-koulussa/
LOCATION:Ihoden kylätie 27
CATEGORIES:Tapahtumakalenteri
END:VEVENT
END:VCALENDAR